Workbook
Name _msoanchor_6: #REF!
Name Agora_KN45__2024: 'Gas-Strom-Vergleich'!$C$23:$R$23
Name Ariadne_Report__2025: 'Gas-Strom-Vergleich'!$C$22:$R$22
Name dena_Biomethan: 'Gas-Strom-Vergleich'!$C$3:$R$3
Name Langfristszenarien__2024: 'Gas-Strom-Vergleich'!$C$24:$R$24
Name Median: 'Gas-Strom-Vergleich'!$C$6:$R$6
Name Projektionsbericht__2026: 'Gas-Strom-Vergleich'!$C$25:$R$25

Sheet Deckblatt
B2: Datenkatalog Preisszenarien
B4: Grundlage für den Szenariovergleich sind vier Studien aus dem Monitoringbericht der Bundesregierung zur Energiewende (EWI/BET 2026):
B5: Ariadne-Report (2025) Luderer, G. et al. (2025): Ariadne-Report: Szenarien zur Klimaneutralität 2045. Kopernikus-Projekt Ariadne, Potsdam. Agora-KN45 (2024) Prognos, Öko-Institut, Wuppertal Institut, Universität Kassel (2024): Klimaneutrales Deutschland – Von der Zielsetzung zur Umsetzung. Im Auftrag der Agora Think Tanks, Berlin. Oktober 2024. Agora-WN (2024) Agora Energiewende, Prognos, GEF (2024): Wärmenetze – klimaneutral, wirtschaftlich und bezahlbar. Wie kann ein zukunftssicherer Business Case aussehen? BMWE-Langfristszenarien (2024) Fraunhofer ISI Consentec, ifeu, BMWK (2024): Langfristszenarien 3 des BMWK. Im Auftrag des Bundesministeriums für Wirtschaft und Klimaschutz, Berlin. UBA-Projektionsbericht (2026) Umweltbundesamt (2026): Rahmendaten und Endverbrauchspreise für die Treibhausgas-Projektionen 2026, 2. Auflage. UBA, Dessau-Roßlau. Februar/März 2026.
B7: Autorinnen und Autoren:
B8: Sinja Rostalski, Moritz Zöphel, Dr. Anne Berner
B11: Haftungsausschluss:
B12: Die in diesem Datenkatalog enthaltenen Informationen, Daten und technischen Angaben wurden mit größtmöglicher Sorgfalt zusammengestellt. Dennoch kann keine Gewähr für die Richtigkeit, Vollständigkeit, Aktualität oder Anwendbarkeit der Inhalte übernommen werden. Die Herausgeber übernehmen keine Haftung für direkte oder indirekte Schäden, die aus der Nutzung der oder dem Vertrauen auf die Inhalte dieses Katalogs entstehen. Alle Nutzerinnen und Nutzer sind angehalten, die im Katalog genannten Daten im konkreten Anwendungsfall eigenverantwortlich zu prüfen.
B14: Stand:
B15: aktuell: erste Version – 06/2026
B18: Bitte zitieren als:
B19: Deutsche Energie-Agentur (dena, 2026): Datenkatalog Preisszenarien. Berlin.
B21: Bei Interesse und Rückfagen wenden Sie sich gerne an uns:
... B25: 10115 Berlin

Sheet Inhalt
B2: Inhaltsverzeichnis
B4: Übersicht
D5: Dashboard
B6: Preisdaten
C7: Tabelle 1 | D7: Erdgas und Methan
C8: Tabelle 2 | D8: Strom
C9: Tabelle 3 | D9: Geizöl und Erdölprodukte
C10: Tabelle 4 | D10: Biomasse
C11: Tabelle 5 | D11: Fernwärme
C12: Tabelle 6 | D12: Wasserstoff
C13: Tabelle 7 | D13: EU-ETS-2
B14: Anhang
C15: A1 | D15: Harmonisierter Verbraucherpreisindex
C16: A2 | D16: Rohdaten und Quellen

Sheet Dashboard 
B1: Gaspreise
B26: Strompreise
B53: Ölpreise
B80: Biomassepreise
B107: Fernwärmepreise
B134: Wasserstoffpreise
B161: EU ETS 2

Sheet 01_Gas
A1: zum Inhalt
A4: Erdgaspreis
A5: Szenario | C5: Einheit | D5: 2025 | E5: 2026 | F5: 2027 | G5: 2028 | H5: 2029 | I5: 2030 | J5: 2031 | K5: 2032 | L5: 2033 | M5: 2034 | N5: 2035 | O5: 2036 | P5: 2037 | Q5: 2038 | R5: 2039 | S5: 2040 | T5: 2041 | U5: 2042 | V5: 2043 | W5: 2044 | X5: 2045 | Y5: 2046 | Z5: 2047 | AA5: 2048 | AB5: 2049 | AC5: 2050 | AD5: Anmerkung
A6: UBA-Projektionsbericht (2026) | B6: Erdgas Haushalte (20-200GJ) | C6: EUR2023/MWh | D6: =A2_Rohdaten!E4*A1_HVPI!$D$16 -> 126.27995 | E6: =A2_Rohdaten!F4*A1_HVPI!$D$16 -> 118.45514 | F6: =A2_Rohdaten!G4*A1_HVPI!$D$16 -> 118.6893 | G6: =A2_Rohdaten!H4*A1_HVPI!$D$16 -> 118.1722 | H6: =A2_Rohdaten!I4*A1_HVPI!$D$16 -> 117.8795 | I6: =A2_Rohdaten!J4*A1_HVPI!$D$16 -> 117.34288 | J6: =A2_Rohdaten!K4*A1_HVPI!$D$16 -> 118.70881 | K6: =A2_Rohdaten!L4*A1_HVPI!$D$16 -> 121.4114 | ... AC6: =A2_Rohdaten!AD4*A1_HVPI!$D$16 -> 178.35104 | AD6: =""
B7: davon Beschaffung und Vertrieb | C7: EUR2023/MWh | D7: =A2_Rohdaten!E5*A1_HVPI!$D$16 -> 59.925168 | E7: =A2_Rohdaten!F5*A1_HVPI!$D$16 -> 52.968697 | F7: =A2_Rohdaten!G5*A1_HVPI!$D$16 -> 48.978239 | G7: =A2_Rohdaten!H5*A1_HVPI!$D$16 -> 44.47068 | H7: =A2_Rohdaten!I5*A1_HVPI!$D$16 -> 40.25582 | I7: =A2_Rohdaten!J5*A1_HVPI!$D$16 -> 35.884853 | J7: =A2_Rohdaten!K5*A1_HVPI!$D$16 -> 33.982312 | K7: =A2_Rohdaten!L5*A1_HVPI!$D$16 -> 33.250565 | ... AC7: =A2_Rohdaten!AD5*A1_HVPI!$D$16 -> 30.069907
B8: davon CO2-Preisaufschlag | C8: EUR2023/MWh | D8: =A2_Rohdaten!E6*A1_HVPI!$D$16 -> 10.420072 | E8: =A2_Rohdaten!F6*A1_HVPI!$D$16 -> 11.961618 | F8: =A2_Rohdaten!G6*A1_HVPI!$D$16 -> 14.29345 | G8: =A2_Rohdaten!H6*A1_HVPI!$D$16 -> 16.498447 | H8: =A2_Rohdaten!I6*A1_HVPI!$D$16 -> 18.59612 | I8: =A2_Rohdaten!J6*A1_HVPI!$D$16 -> 20.615741 | J8: =A2_Rohdaten!K6*A1_HVPI!$D$16 -> 22.576822 | K8: =A2_Rohdaten!L6*A1_HVPI!$D$16 -> 24.469606 | ... AC8: =A2_Rohdaten!AD6*A1_HVPI!$D$16 -> 48.968482
B9: davon Energiesteuer/Konzessionsabgabe/Gasspeicherumlage | C9: EUR2023/MWh | D9: =A2_Rohdaten!E7*A1_HVPI!$D$16 -> 9.5614889 | E9: =A2_Rohdaten!F7*A1_HVPI!$D$16 -> 6.390587 | F9: =A2_Rohdaten!G7*A1_HVPI!$D$16 -> 6.2247244 | G9: =A2_Rohdaten!H7*A1_HVPI!$D$16 -> 6.0783751 | H9: =A2_Rohdaten!I7*A1_HVPI!$D$16 -> 5.9320258 | I9: =A2_Rohdaten!J7*A1_HVPI!$D$16 -> 5.8149463 | J9: =A2_Rohdaten!K7*A1_HVPI!$D$16 -> 5.6978669 | K9: =A2_Rohdaten!L7*A1_HVPI!$D$16 -> 5.6003006 | ... AC9: =A2_Rohdaten!AD7*A1_HVPI!$D$16 -> 4.3124266
B10: davon Netzentgelte | C10: EUR2023/MWh | D10: =A2_Rohdaten!E8*A1_HVPI!$D$16 -> 26.206285 | E10: =A2_Rohdaten!F8*A1_HVPI!$D$16 -> 28.225906 | F10: =A2_Rohdaten!G8*A1_HVPI!$D$16 -> 30.245526 | G10: =A2_Rohdaten!H8*A1_HVPI!$D$16 -> 32.25539 | H10: =A2_Rohdaten!I8*A1_HVPI!$D$16 -> 34.275011 | I10: =A2_Rohdaten!J8*A1_HVPI!$D$16 -> 36.294631 | J10: =A2_Rohdaten!K8*A1_HVPI!$D$16 -> 37.504452 | K10: =A2_Rohdaten!L8*A1_HVPI!$D$16 -> 38.714273 | ... AC10: =A2_Rohdaten!AD8*A1_HVPI!$D$16 -> 66.530401 | AD10: =""
B11: davon MWST | C11: EUR2023/MWh | D11: =A2_Rohdaten!E9*A1_HVPI!$D$16 -> 20.15718 | E11: =A2_Rohdaten!F9*A1_HVPI!$D$16 -> 18.918089 | F11: =A2_Rohdaten!G9*A1_HVPI!$D$16 -> 18.947359 | G11: =A2_Rohdaten!H9*A1_HVPI!$D$16 -> 18.869306 | H11: =A2_Rohdaten!I9*A1_HVPI!$D$16 -> 18.820523 | I11: =A2_Rohdaten!J9*A1_HVPI!$D$16 -> 18.732713 | J11: =A2_Rohdaten!K9*A1_HVPI!$D$16 -> 18.957115 | K11: =A2_Rohdaten!L9*A1_HVPI!$D$16 -> 19.386407 | ... AC11: =A2_Rohdaten!AD9*A1_HVPI!$D$16 -> 28.479578 | AD11: =""
B12: Erdgas Industrie I3 (10.000-100.000 GJ) - Endverbraucherpreis | C12: EUR2023/MWh | D12: =A2_Rohdaten!E4*A1_HVPI!$D$16 -> 126.27995 | E12: =A2_Rohdaten!F4*A1_HVPI!$D$16 -> 118.45514 | F12: =A2_Rohdaten!G4*A1_HVPI!$D$16 -> 118.6893 | G12: =A2_Rohdaten!H4*A1_HVPI!$D$16 -> 118.1722 | H12: =A2_Rohdaten!I4*A1_HVPI!$D$16 -> 117.8795 | I12: =A2_Rohdaten!J4*A1_HVPI!$D$16 -> 117.34288 | J12: =A2_Rohdaten!K4*A1_HVPI!$D$16 -> 118.70881 | K12: =A2_Rohdaten!L4*A1_HVPI!$D$16 -> 121.4114 | ... AC12: =A2_Rohdaten!AD4*A1_HVPI!$D$16 -> 178.35104
B13: davon Beschaffung und Vertrieb | C13: EUR2023/MWh | D13: =A2_Rohdaten!E5*A1_HVPI!$D$16 -> 59.925168 | E13: =A2_Rohdaten!F5*A1_HVPI!$D$16 -> 52.968697 | F13: =A2_Rohdaten!G5*A1_HVPI!$D$16 -> 48.978239 | G13: =A2_Rohdaten!H5*A1_HVPI!$D$16 -> 44.47068 | H13: =A2_Rohdaten!I5*A1_HVPI!$D$16 -> 40.25582 | I13: =A2_Rohdaten!J5*A1_HVPI!$D$16 -> 35.884853 | J13: =A2_Rohdaten!K5*A1_HVPI!$D$16 -> 33.982312 | K13: =A2_Rohdaten!L5*A1_HVPI!$D$16 -> 33.250565 | ... AC13: =A2_Rohdaten!AD5*A1_HVPI!$D$16 -> 30.069907
B14: davon CO2-Preisaufschlag | C14: EUR2023/MWh | D14: =A2_Rohdaten!E6*A1_HVPI!$D$16 -> 10.420072 | E14: =A2_Rohdaten!F6*A1_HVPI!$D$16 -> 11.961618 | F14: =A2_Rohdaten!G6*A1_HVPI!$D$16 -> 14.29345 | G14: =A2_Rohdaten!H6*A1_HVPI!$D$16 -> 16.498447 | H14: =A2_Rohdaten!I6*A1_HVPI!$D$16 -> 18.59612 | I14: =A2_Rohdaten!J6*A1_HVPI!$D$16 -> 20.615741 | J14: =A2_Rohdaten!K6*A1_HVPI!$D$16 -> 22.576822 | K14: =A2_Rohdaten!L6*A1_HVPI!$D$16 -> 24.469606 | ... AC14: =A2_Rohdaten!AD6*A1_HVPI!$D$16 -> 48.968482
B15: davon Energiesteuer, Konzessionsabgabe, Gasspeicherumlage | C15: EUR2023/MWh | D15: =A2_Rohdaten!E7*A1_HVPI!$D$16 -> 9.5614889 | E15: =A2_Rohdaten!F7*A1_HVPI!$D$16 -> 6.390587 | F15: =A2_Rohdaten!G7*A1_HVPI!$D$16 -> 6.2247244 | G15: =A2_Rohdaten!H7*A1_HVPI!$D$16 -> 6.0783751 | H15: =A2_Rohdaten!I7*A1_HVPI!$D$16 -> 5.9320258 | I15: =A2_Rohdaten!J7*A1_HVPI!$D$16 -> 5.8149463 | J15: =A2_Rohdaten!K7*A1_HVPI!$D$16 -> 5.6978669 | K15: =A2_Rohdaten!L7*A1_HVPI!$D$16 -> 5.6003006 | ... AC15: =A2_Rohdaten!AD7*A1_HVPI!$D$16 -> 4.3124266
B16: davon Netzentgelte | C16: EUR2023/MWh | D16: =A2_Rohdaten!E8*A1_HVPI!$D$16 -> 26.206285 | E16: =A2_Rohdaten!F8*A1_HVPI!$D$16 -> 28.225906 | F16: =A2_Rohdaten!G8*A1_HVPI!$D$16 -> 30.245526 | G16: =A2_Rohdaten!H8*A1_HVPI!$D$16 -> 32.25539 | H16: =A2_Rohdaten!I8*A1_HVPI!$D$16 -> 34.275011 | I16: =A2_Rohdaten!J8*A1_HVPI!$D$16 -> 36.294631 | J16: =A2_Rohdaten!K8*A1_HVPI!$D$16 -> 37.504452 | K16: =A2_Rohdaten!L8*A1_HVPI!$D$16 -> 38.714273 | ... AC16: =A2_Rohdaten!AD8*A1_HVPI!$D$16 -> 66.530401
B17: Erdgas Industrie I6 (> 4.000.000 GJ) - Endverbraucherpreis | C17: EUR2023/MWh | D17: =A2_Rohdaten!E9*A1_HVPI!$D$16 -> 20.15718 | E17: =A2_Rohdaten!F9*A1_HVPI!$D$16 -> 18.918089 | F17: =A2_Rohdaten!G9*A1_HVPI!$D$16 -> 18.947359 | G17: =A2_Rohdaten!H9*A1_HVPI!$D$16 -> 18.869306 | H17: =A2_Rohdaten!I9*A1_HVPI!$D$16 -> 18.820523 | I17: =A2_Rohdaten!J9*A1_HVPI!$D$16 -> 18.732713 | J17: =A2_Rohdaten!K9*A1_HVPI!$D$16 -> 18.957115 | K17: =A2_Rohdaten!L9*A1_HVPI!$D$16 -> 19.386407 | ... AC17: =A2_Rohdaten!AD9*A1_HVPI!$D$16 -> 28.479578
B18: davon Beschaffung und Vertrieb | C18: EUR2023/MWh | D18: =A2_Rohdaten!E10*A1_HVPI!$D$16 -> 84.472827 | E18: =A2_Rohdaten!F10*A1_HVPI!$D$16 -> 74.813772 | F18: =A2_Rohdaten!G10*A1_HVPI!$D$16 -> 74.5601 | G18: =A2_Rohdaten!H10*A1_HVPI!$D$16 -> 72.735612 | H18: =A2_Rohdaten!I10*A1_HVPI!$D$16 -> 71.252606 | I18: =A2_Rohdaten!J10*A1_HVPI!$D$16 -> 69.574467 | J18: =A2_Rohdaten!K10*A1_HVPI!$D$16 -> 70.384266 | K18: =A2_Rohdaten!L10*A1_HVPI!$D$16 -> 71.925812 | ... AC18: =A2_Rohdaten!AD10*A1_HVPI!$D$16 -> 103.06895
B19: davon Energiesteuer, Konzessionsabgabe, Gasspeicherumlage | C19: EUR2023/MWh | D19: =A2_Rohdaten!E11*A1_HVPI!$D$16 -> 54.744402 | E19: =A2_Rohdaten!F11*A1_HVPI!$D$16 -> 45.91466 | F19: =A2_Rohdaten!G11*A1_HVPI!$D$16 -> 42.675462 | G19: =A2_Rohdaten!H11*A1_HVPI!$D$16 -> 37.992283 | H19: =A2_Rohdaten!I11*A1_HVPI!$D$16 -> 33.75791 | I19: =A2_Rohdaten!J11*A1_HVPI!$D$16 -> 29.36743 | J19: =A2_Rohdaten!K11*A1_HVPI!$D$16 -> 27.845397 | K19: =A2_Rohdaten!L11*A1_HVPI!$D$16 -> 27.113651 | ... AC19: =A2_Rohdaten!AD11*A1_HVPI!$D$16 -> 23.952505
B20: davon Netzentgelte | C20: EUR2023/MWh | D20: =A2_Rohdaten!E12*A1_HVPI!$D$16 -> 10.420072 | E20: =A2_Rohdaten!F12*A1_HVPI!$D$16 -> 11.961618 | F20: =A2_Rohdaten!G12*A1_HVPI!$D$16 -> 14.29345 | G20: =A2_Rohdaten!H12*A1_HVPI!$D$16 -> 16.498447 | H20: =A2_Rohdaten!I12*A1_HVPI!$D$16 -> 18.59612 | I20: =A2_Rohdaten!J12*A1_HVPI!$D$16 -> 20.615741 | J20: =A2_Rohdaten!K12*A1_HVPI!$D$16 -> 22.576822 | K20: =A2_Rohdaten!L12*A1_HVPI!$D$16 -> 24.469606 | ... AC20: =A2_Rohdaten!AD12*A1_HVPI!$D$16 -> 48.968482
A21: Agora-KN45 (2024) | B21: Erdgas Haushalte | C21: EUR2023/MWh | D21: =A2_Rohdaten!E34/100000 -> 120.89305 | I21: =A2_Rohdaten!J34/100000 -> 130.38005 | N21: =A2_Rohdaten!O34/100000 -> 132.5799 | S21: =A2_Rohdaten!T34/100000 -> 136.36622 | X21: =A2_Rohdaten!Y34/100000 -> 170.12353
B22: davon Beschaffung | C22: EUR2023/MWh | D22: =A2_Rohdaten!E35/100000 -> 39.88864 | I22: =A2_Rohdaten!J35/100000 -> 30.38588 | N22: =A2_Rohdaten!O35/100000 -> 23.42116 | S22: =A2_Rohdaten!T35/100000 -> 22.78897 | X22: =A2_Rohdaten!Y35/100000 -> 22.03173 | AD22: =""
B23: davon Netzentgelt, Messung, Messstellenbetrieb, Vertrieb, Gasspeicherumlage | C23: EUR2023/MWh | D23: =A2_Rohdaten!E36/100000 -> 45.43146 | I23: =A2_Rohdaten!J36/100000 -> 4.93686 | N23: =A2_Rohdaten!O36/100000 -> 0.53298 | S23: =A2_Rohdaten!T36/100000 -> 0.53298 | X23: =A2_Rohdaten!Y36/100000 -> 0.79494 | AD23: =""
B24: davon Energiesteuer | C24: EUR2023/MWh | D24: =A2_Rohdaten!E37/100000 -> 5.21763 | I24: =A2_Rohdaten!J37/100000 -> 4.72475 | N24: =A2_Rohdaten!O37/100000 -> 4.28061 | S24: =A2_Rohdaten!T37/100000 -> 0.38874 | X24: =A2_Rohdaten!Y37/100000 -> 0.35391 | AD24: =""
B25: davon CO2-Preis | C25: EUR2023/MWh | D25: =A2_Rohdaten!E38/100000 -> 11.05308 | I25: =A2_Rohdaten!J38/100000 -> 25.08383 | N25: =A2_Rohdaten!O38/100000 -> 30.41191 | S25: =A2_Rohdaten!T38/100000 -> 34.61909 | X25: =A2_Rohdaten!Y38/100000 -> 37.89612 | AD25: =""
B26: davon Umsatzsteuer | C26: EUR2023/MWh | D26: =A2_Rohdaten!E39/100000 -> 19.30225 | I26: =A2_Rohdaten!J39/100000 -> 20.81698 | N26: =A2_Rohdaten!O39/100000 -> 21.16822 | S26: =A2_Rohdaten!T39/100000 -> 21.77276 | X26: =A2_Rohdaten!Y39/100000 -> 27.16258 | AD26: =""
A27: BMWE-Langfristszenarien (2024) | B27: Gaspreis (O45-Strom) | C27: EUR2023/MWh | D27: =A2_Rohdaten!E19*A1_HVPI!$D$10 -> 120.98656 | I27: =A2_Rohdaten!J19*A1_HVPI!$D$10 -> 116.51006 | N27: =A2_Rohdaten!O19*A1_HVPI!$D$10 -> 145.18387 | S27: =A2_Rohdaten!T19*A1_HVPI!$D$10 -> 193.57849 | AD27: =""
A28: Ariadne-Report (2025) | B28: Haushalte | C28: EUR2023/MWh | D28: =A2_Rohdaten!E20*3.6*A1_HVPI!$D$12 -> 101.66444 | I28: =A2_Rohdaten!J20*3.6*A1_HVPI!$D$12 -> 119.30055 | N28: =A2_Rohdaten!O20*3.6*A1_HVPI!$D$12 -> 142.71548 | S28: =A2_Rohdaten!T20*3.6*A1_HVPI!$D$12 -> 179.52871 | X28: =A2_Rohdaten!Y20*3.6*A1_HVPI!$D$12 -> 217.24086 | AD28: inkl CO₂-Preis
A31: Biomethanpreis
A32: Szenario | C32: Einheit | D32: 2025 | E32: 2026 | F32: 2027 | G32: 2028 | H32: 2029 | I32: 2030 | J32: 2031 | K32: 2032 | L32: 2033 | M32: 2034 | N32: 2035 | O32: 2036 | P32: 2037 | Q32: 2038 | R32: 2039 | S32: 2040 | T32: 2041 | U32: 2042 | V32: 2043 | W32: 2044 | X32: 2045 | Y32: 2046 | Z32: 2047 | AA32: 2048 | AB32: 2049 | AC32: 2050 | AD32: Anmerkung
A33: UBA-Projektionsbericht (2026) | B33: Biomethan - Endverbraucherpreis inkl. MwSt. | C33: EUR2023/MWh | D33: =A2_Rohdaten!E21*A1_HVPI!$D$16 -> 189.60136 | E33: =A2_Rohdaten!F21*A1_HVPI!$D$16 -> 173.26132 | F33: =A2_Rohdaten!G21*A1_HVPI!$D$16 -> 171.51669 | G33: =A2_Rohdaten!H21*A1_HVPI!$D$16 -> 168.41089 | H33: =A2_Rohdaten!I21*A1_HVPI!$D$16 -> 165.71667 | I33: =A2_Rohdaten!J21*A1_HVPI!$D$16 -> 166.49777 | J33: =A2_Rohdaten!K21*A1_HVPI!$D$16 -> 167.80233 | K33: =A2_Rohdaten!L21*A1_HVPI!$D$16 -> 171.53001 | ... AC33: =A2_Rohdaten!AD21*A1_HVPI!$D$16 -> 247.82669
AD55: =""

Sheet 02_Strom
A1: zum Inhalt
A4: Strompreis
A5: Szenario | B5: Einheit | C5: N/E | E5: 2025 | F5: 2026 | G5: 2027 | H5: 2028 | I5: 2029 | J5: 2030 | K5: 2031 | L5: 2032 | M5: 2033 | N5: 2034 | O5: 2035 | P5: 2036 | Q5: 2037 | R5: 2038 | S5: 2039 | T5: 2040 | U5: 2041 | V5: 2042 | W5: 2043 | X5: 2044 | Y5: 2045 | Z5: 2046 | AA5: 2047 | AB5: 2048 | AC5: 2049 | AD5: 2050 | AE5: Anmerkung
A6: UBA-Projektionsbericht (2026) | B6: Haushalte Endverbraucherpreis inkl. MwSt. | D6: EUR2023/MWh | E6: =A2_Rohdaten!E40*10*A1_HVPI!$D$16 -> 373.6786 | F6: =A2_Rohdaten!F40*10*A1_HVPI!$D$16 -> 327.82248 | G6: =A2_Rohdaten!G40*10*A1_HVPI!$D$16 -> 312.89485 | H6: =A2_Rohdaten!H40*10*A1_HVPI!$D$16 -> 308.4068 | I6: =A2_Rohdaten!I40*10*A1_HVPI!$D$16 -> 307.5287 | J6: =A2_Rohdaten!J40*10*A1_HVPI!$D$16 -> 321.38311 | K6: =A2_Rohdaten!K40*10*A1_HVPI!$D$16 -> 322.5539 | L6: =A2_Rohdaten!L40*10*A1_HVPI!$D$16 -> 324.50523 | ... AD6: =A2_Rohdaten!AD40*10*A1_HVPI!$D$16 -> 330.6519
B7: davon Beschaffung und Vertrieb | D7: EUR2023/MWh | E7: =A2_Rohdaten!E41*10*A1_HVPI!$D$16 -> 157.27674 | F7: =A2_Rohdaten!F41*10*A1_HVPI!$D$16 -> 130.44603 | G7: =A2_Rohdaten!G41*10*A1_HVPI!$D$16 -> 111.51818 | H7: =A2_Rohdaten!H41*10*A1_HVPI!$D$16 -> 99.127273 | I7: =A2_Rohdaten!I41*10*A1_HVPI!$D$16 -> 90.639012 | J7: =A2_Rohdaten!J41*10*A1_HVPI!$D$16 -> 80.004295 | K7: =A2_Rohdaten!K41*10*A1_HVPI!$D$16 -> 77.467573 | L7: =A2_Rohdaten!L41*10*A1_HVPI!$D$16 -> 77.857838 | ... AD7: =A2_Rohdaten!AD41*10*A1_HVPI!$D$16 -> 79.906729
B8: davon Netzentgelte | D8: EUR2023/MWh | E8: =A2_Rohdaten!E42*10*A1_HVPI!$D$16 -> 116.10379 | F8: =A2_Rohdaten!F42*10*A1_HVPI!$D$16 -> 104.88368 | G8: =A2_Rohdaten!G42*10*A1_HVPI!$D$16 -> 111.61575 | H8: =A2_Rohdaten!H42*10*A1_HVPI!$D$16 -> 120.20157 | I8: =A2_Rohdaten!I42*10*A1_HVPI!$D$16 -> 127.81174 | J8: =A2_Rohdaten!J42*10*A1_HVPI!$D$16 -> 150.54467 | K8: =A2_Rohdaten!K42*10*A1_HVPI!$D$16 -> 154.25218 | L8: =A2_Rohdaten!L42*10*A1_HVPI!$D$16 -> 155.81324 | ... AD8: =A2_Rohdaten!AD42*10*A1_HVPI!$D$16 -> 164.78933
B9: davon Konzessionsabgabe | D9: EUR2023/MWh | E9: =A2_Rohdaten!E43*10*A1_HVPI!$D$16 -> 37.953257 | F9: =A2_Rohdaten!F43*10*A1_HVPI!$D$16 -> 37.562992 | G9: =A2_Rohdaten!G43*10*A1_HVPI!$D$16 -> 37.172727 | H9: =A2_Rohdaten!H43*10*A1_HVPI!$D$16 -> 36.880029 | I9: =A2_Rohdaten!I43*10*A1_HVPI!$D$16 -> 36.489764 | J9: =A2_Rohdaten!J43*10*A1_HVPI!$D$16 -> 36.197065 | K9: =A2_Rohdaten!K43*10*A1_HVPI!$D$16 -> 35.8068 | L9: =A2_Rohdaten!L43*10*A1_HVPI!$D$16 -> 35.514102 | ... AD9: =A2_Rohdaten!AD43*10*A1_HVPI!$D$16 -> 30.635791
B10: davon Sonstige Umlagen | D10: EUR2023/MWh | E10: =A2_Rohdaten!E44*10*A1_HVPI!$D$16 -> 2.6342878 | F10: =A2_Rohdaten!F44*10*A1_HVPI!$D$16 -> 2.6342878 | G10: =A2_Rohdaten!G44*10*A1_HVPI!$D$16 -> 2.5367215 | H10: =A2_Rohdaten!H44*10*A1_HVPI!$D$16 -> 3.0245526 | I10: =A2_Rohdaten!I44*10*A1_HVPI!$D$16 -> 3.4148175 | J10: =A2_Rohdaten!J44*10*A1_HVPI!$D$16 -> 3.4148175 | K10: =A2_Rohdaten!K44*10*A1_HVPI!$D$16 -> 3.5123837 | L10: =A2_Rohdaten!L44*10*A1_HVPI!$D$16 -> 3.5123837 | ... AD10: =A2_Rohdaten!AD44*10*A1_HVPI!$D$16 -> 2.5367215
B11: davon MwSt. | D11: EUR2023/MWh | E11: =A2_Rohdaten!E45*10*A1_HVPI!$D$16 -> 59.710523 | F11: =A2_Rohdaten!F45*10*A1_HVPI!$D$16 -> 52.393057 | G11: =A2_Rohdaten!G45*10*A1_HVPI!$D$16 -> 49.953901 | H11: =A2_Rohdaten!H45*10*A1_HVPI!$D$16 -> 49.270938 | I11: =A2_Rohdaten!I45*10*A1_HVPI!$D$16 -> 49.075805 | J11: =A2_Rohdaten!J45*10*A1_HVPI!$D$16 -> 51.319828 | K11: =A2_Rohdaten!K45*10*A1_HVPI!$D$16 -> 51.514961 | L11: =A2_Rohdaten!L45*10*A1_HVPI!$D$16 -> 51.807659 | ... AD11: =A2_Rohdaten!AD45*10*A1_HVPI!$D$16 -> 52.783321
B12: Industrie (500 - 2000 MWh p.a.) Endverbraucherpreis | D12: EUR2023/MWh | E12: =A2_Rohdaten!E110*A1_HVPI!$D$16*10 -> 155.26785 | F12: =A2_Rohdaten!F110*A1_HVPI!$D$16*10 -> 143.75337 | G12: =A2_Rohdaten!G110*A1_HVPI!$D$16*10 -> 148.97813 | H12: =A2_Rohdaten!H110*A1_HVPI!$D$16*10 -> 139.35308 | I12: =A2_Rohdaten!I110*A1_HVPI!$D$16*10 -> 135.61127 | J12: =A2_Rohdaten!J110*A1_HVPI!$D$16*10 -> 137.73859 | K12: =A2_Rohdaten!K110*A1_HVPI!$D$16*10 -> 138.00884 | L12: =A2_Rohdaten!L110*A1_HVPI!$D$16*10 -> 139.86614 | ... AD12: =A2_Rohdaten!AD110*A1_HVPI!$D$16*10 -> 131.92828
B13: davon Beschaffung und Vertrieb | D13: EUR2023/MWh | E13: =A2_Rohdaten!E111*A1_HVPI!$D$16*10 -> 99.112372 | F13: =A2_Rohdaten!F111*A1_HVPI!$D$16*10 -> 93.586548 | G13: =A2_Rohdaten!G111*A1_HVPI!$D$16*10 -> 94.300925 | H13: =A2_Rohdaten!H111*A1_HVPI!$D$16*10 -> 81.497311 | I13: =A2_Rohdaten!I111*A1_HVPI!$D$16*10 -> 72.918708 | J13: =A2_Rohdaten!J111*A1_HVPI!$D$16*10 -> 62.001343 | K13: =A2_Rohdaten!K111*A1_HVPI!$D$16*10 -> 59.312552 | L13: =A2_Rohdaten!L111*A1_HVPI!$D$16*10 -> 59.748444 | ... AD13: =A2_Rohdaten!AD111*A1_HVPI!$D$16*10 -> 59.163221
B14: davon Industrie C 500 - 2000 MWh - Netzentgelte | D14: EUR2023/MWh | E14: =A2_Rohdaten!E112*A1_HVPI!$D$16*10 -> 51.786708 | F14: =A2_Rohdaten!F112*A1_HVPI!$D$16*10 -> 45.867145 | G14: =A2_Rohdaten!G112*A1_HVPI!$D$16*10 -> 50.434945 | H14: =A2_Rohdaten!H112*A1_HVPI!$D$16*10 -> 53.165572 | I14: =A2_Rohdaten!I112*A1_HVPI!$D$16*10 -> 57.574469 | J14: =A2_Rohdaten!J112*A1_HVPI!$D$16*10 -> 70.693111 | K14: =A2_Rohdaten!K112*A1_HVPI!$D$16*10 -> 73.487771 | L14: =A2_Rohdaten!L112*A1_HVPI!$D$16*10 -> 74.983467 | ... AD14: =A2_Rohdaten!AD112*A1_HVPI!$D$16*10 -> 68.736097
B15: davon Industrie C 500 - 2000 MWh - Stromsteuer und Konzessionsabgabe | D15: EUR2023/MWh | E15: =A2_Rohdaten!E113*A1_HVPI!$D$16*10 -> 1.7141495 | F15: =A2_Rohdaten!F113*A1_HVPI!$D$16*10 -> 1.7036401 | G15: =A2_Rohdaten!G113*A1_HVPI!$D$16*10 -> 1.6949069 | H15: =A2_Rohdaten!H113*A1_HVPI!$D$16*10 -> 1.6868861 | I15: =A2_Rohdaten!I113*A1_HVPI!$D$16*10 -> 1.6786206 | J15: =A2_Rohdaten!J113*A1_HVPI!$D$16*10 -> 1.670221 | K15: =A2_Rohdaten!K113*A1_HVPI!$D$16*10 -> 1.6620324 | L15: =A2_Rohdaten!L113*A1_HVPI!$D$16*10 -> 1.6540976 | ... AD15: =A2_Rohdaten!AD113*A1_HVPI!$D$16*10 -> 1.5360383
B16: davon Industrie C 500 - 2000 MWh - Sonstige Umlagen | D16: EUR2023/MWh | E16: =A2_Rohdaten!E114*A1_HVPI!$D$16*10 -> 2.6546185 | F16: =A2_Rohdaten!F114*A1_HVPI!$D$16*10 -> 2.596037 | G16: =A2_Rohdaten!G114*A1_HVPI!$D$16*10 -> 2.547357 | H16: =A2_Rohdaten!H114*A1_HVPI!$D$16*10 -> 3.0033133 | I16: =A2_Rohdaten!I114*A1_HVPI!$D$16*10 -> 3.4394713 | J16: =A2_Rohdaten!J114*A1_HVPI!$D$16*10 -> 3.3739171 | K16: =A2_Rohdaten!K114*A1_HVPI!$D$16*10 -> 3.5464852 | L16: =A2_Rohdaten!L114*A1_HVPI!$D$16*10 -> 3.4801343 | ... AD16: =A2_Rohdaten!AD114*A1_HVPI!$D$16*10 -> 2.4929208
B17: Industrie (70.000 - 150.000 MWh p.a.) - Endverbraucherpreis | D17: EUR2023/MWh | E17: =A2_Rohdaten!E115*A1_HVPI!$D$16*10 -> 108.0998 | F17: =A2_Rohdaten!F115*A1_HVPI!$D$16*10 -> 99.141044 | G17: =A2_Rohdaten!G115*A1_HVPI!$D$16*10 -> 101.04412 | H17: =A2_Rohdaten!H115*A1_HVPI!$D$16*10 -> 89.337957 | I17: =A2_Rohdaten!I115*A1_HVPI!$D$16*10 -> 81.908119 | J17: =A2_Rohdaten!J115*A1_HVPI!$D$16*10 -> 76.11426 | K17: =A2_Rohdaten!K115*A1_HVPI!$D$16*10 -> 74.264755 | L17: =A2_Rohdaten!L115*A1_HVPI!$D$16*10 -> 75.252532 | ... AD17: =A2_Rohdaten!AD115*A1_HVPI!$D$16*10 -> 62.05045
B18: davon Beschaffung und Vertrieb | D18: EUR2023/MWh | E18: =A2_Rohdaten!E116*A1_HVPI!$D$16*10 -> 95.884918 | F18: =A2_Rohdaten!F116*A1_HVPI!$D$16*10 -> 90.359093 | G18: =A2_Rohdaten!G116*A1_HVPI!$D$16*10 -> 91.073471 | H18: =A2_Rohdaten!H116*A1_HVPI!$D$16*10 -> 78.269856 | I18: =A2_Rohdaten!I116*A1_HVPI!$D$16*10 -> 69.691254 | J18: =A2_Rohdaten!J116*A1_HVPI!$D$16*10 -> 58.773888 | K18: =A2_Rohdaten!K116*A1_HVPI!$D$16*10 -> 56.085098 | L18: =A2_Rohdaten!L116*A1_HVPI!$D$16*10 -> 56.520989 | ... AD18: =A2_Rohdaten!AD116*A1_HVPI!$D$16*10 -> 55.935766
B19: davon Netzentgelte | D19: EUR2023/MWh | E19: =A2_Rohdaten!E117*A1_HVPI!$D$16*10 -> 11.44359 | F19: =A2_Rohdaten!F117*A1_HVPI!$D$16*10 -> 8.021223 | G19: =A2_Rohdaten!G117*A1_HVPI!$D$16*10 -> 9.2187015 | H19: =A2_Rohdaten!H117*A1_HVPI!$D$16*10 -> 10.323719 | I19: =A2_Rohdaten!I117*A1_HVPI!$D$16*10 -> 11.480313 | J19: =A2_Rohdaten!J117*A1_HVPI!$D$16*10 -> 16.612285 | K19: =A2_Rohdaten!K117*A1_HVPI!$D$16*10 -> 17.459586 | L19: =A2_Rohdaten!L117*A1_HVPI!$D$16*10 -> 18.019473 | ... AD19: =A2_Rohdaten!AD117*A1_HVPI!$D$16*10 -> 5.5216604
B20: davon Stromsteuer und Konzessionsabgabe | D20: EUR2023/MWh | E20: =A2_Rohdaten!E118*A1_HVPI!$D$16*10 -> 0.4762356 | F20: =A2_Rohdaten!F118*A1_HVPI!$D$16*10 -> 0.46572615 | G20: =A2_Rohdaten!G118*A1_HVPI!$D$16*10 -> 0.45699301 | H20: =A2_Rohdaten!H118*A1_HVPI!$D$16*10 -> 0.44897215 | I20: =A2_Rohdaten!I118*A1_HVPI!$D$16*10 -> 0.44070662 | J20: =A2_Rohdaten!J118*A1_HVPI!$D$16*10 -> 0.43230703 | K20: =A2_Rohdaten!K118*A1_HVPI!$D$16*10 -> 0.42411846 | L20: =A2_Rohdaten!L118*A1_HVPI!$D$16*10 -> 0.41618366 | ... AD20: =A2_Rohdaten!AD118*A1_HVPI!$D$16*10 -> 0.29812439
B21: davon Sonstige Umlagen | D21: EUR2023/MWh | E21: =A2_Rohdaten!E119*A1_HVPI!$D$16*10 -> 0.29506056 | F21: =A2_Rohdaten!F119*A1_HVPI!$D$16*10 -> 0.29500198 | G21: =A2_Rohdaten!G119*A1_HVPI!$D$16*10 -> 0.2949533 | H21: =A2_Rohdaten!H119*A1_HVPI!$D$16*10 -> 0.29540925 | I21: =A2_Rohdaten!I119*A1_HVPI!$D$16*10 -> 0.29584541 | J21: =A2_Rohdaten!J119*A1_HVPI!$D$16*10 -> 0.29577986 | K21: =A2_Rohdaten!K119*A1_HVPI!$D$16*10 -> 0.29595243 | L21: =A2_Rohdaten!L119*A1_HVPI!$D$16*10 -> 0.29588608 | ... AD21: =A2_Rohdaten!AD119*A1_HVPI!$D$16*10 -> 0.29489886
A22: Ariadne-Report Indikation (2025) | B22: Haushalte | D22: EUR2023/MWh | E22: =A2_Rohdaten!E52*3.6*A1_HVPI!$D$12 -> 293.7346 | J22: =A2_Rohdaten!J52*3.6*A1_HVPI!$D$12 -> 287.27912 | O22: =A2_Rohdaten!O52*3.6*A1_HVPI!$D$12 -> 276.43915 | T22: =A2_Rohdaten!T52*3.6*A1_HVPI!$D$12 -> 275.72689 | Y22: =A2_Rohdaten!Y52*3.6*A1_HVPI!$D$12 -> 278.23953 | AE22: inkl. CO₂-Preis
A23: Ariadne-Report PyPSA (2025) | B23: Haushalte | D23: EUR2023/MWh | E23: =A2_Rohdaten!E56*3.6*A1_HVPI!$D$12 -> 381.68756 | J23: =A2_Rohdaten!J56*3.6*A1_HVPI!$D$12 -> 338.04914 | O23: =A2_Rohdaten!O56*3.6*A1_HVPI!$D$12 -> 308.79832 | T23: =A2_Rohdaten!T56*3.6*A1_HVPI!$D$12 -> 293.45947 | Y23: =A2_Rohdaten!Y56*3.6*A1_HVPI!$D$12 -> 274.55345 | AE23: inkl. CO₂-Preis
A24: Agora-KN45 (2024) | B24: Endkundenpreis | D24: EUR2023/MWh | E24: =A2_Rohdaten!E57*10*A1_HVPI!$D$14 -> 371.9498 | J24: =A2_Rohdaten!J57*10*A1_HVPI!$D$14 -> 410.54197 | O24: =A2_Rohdaten!O57*10*A1_HVPI!$D$14 -> 384.5833 | T24: =A2_Rohdaten!T57*10*A1_HVPI!$D$14 -> 384.1625 | Y24: =A2_Rohdaten!Y57*10*A1_HVPI!$D$14 -> 359.39246
A25: BMWE-Langfristszenarien (2024) | B25: Normaltarif | D25: EUR2023/MWh | E25: =A2_Rohdaten!E59*A1_HVPI!$D$10*1000 -> 387.15699 | J25: =A2_Rohdaten!J59*A1_HVPI!$D$10*1000 -> 387.15699 | O25: =A2_Rohdaten!O59*A1_HVPI!$D$10*1000 -> 399.25564 | T25: =A2_Rohdaten!T59*A1_HVPI!$D$10*1000 -> 423.45295 | Y25: =A2_Rohdaten!Y59*A1_HVPI!$D$10*1000 -> 423.45295
A28: Strompreis Wärmepumpentarif
A29: Szenario | B29: Einheit | C29: N/E | E29: 2025 | F29: 2026 | G29: 2027 | H29: 2028 | I29: 2029 | J29: 2030 | K29: 2031 | L29: 2032 | M29: 2033 | N29: 2034 | O29: 2035 | P29: 2036 | Q29: 2037 | R29: 2038 | S29: 2039 | T29: 2040 | U29: 2041 | V29: 2042 | W29: 2043 | X29: 2044 | Y29: 2045 | Z29: 2046 | AA29: 2047 | AB29: 2048 | AC29: 2049 | AD29: 2050 | AE29: Anmerkung
A30: UBA-Projektionsbericht (2025) | B30: Haushalte Wärmepumpen-Tarif - Endverbraucherpreis inkl. MwSt. | D30: EUR2023/MWh | E30: 258.72868 | F30: 267.49161 | G30: 268.39864 | H30: 275.77046 | I30: 274.94926 | J30: 272.71028 | K30: 270.56219 | L30: 269.26923 | M30: 266.30012 | N30: 264.61293 | O30: 261.38544 | P30: 261.37096 | Q30: 260.11463 | R30: 258.55348 | S30: 256.22948 | T30: 253.17515 | U30: 252.01002 | V30: 251.85322 | W30: 251.71069 | X30: 251.71218 | Y30: 251.8357 | Z30: 254.6331 | AA30: 256.85975 | AB30: 259.26904 | AC30: 261.54197 | AD30: 263.37554
A31: UBA-Projektionsbericht (2026) | B31: Haushalte Wärmepumpen-Tarif | D31: EUR2023/MWh | E31: =A2_Rohdaten!E46*A1_HVPI!$D$16*10 -> 267.62412 | F31: =A2_Rohdaten!F46*A1_HVPI!$D$16*10 -> 217.96292 | G31: =A2_Rohdaten!G46*A1_HVPI!$D$16*10 -> 221.67044 | H31: =A2_Rohdaten!H46*A1_HVPI!$D$16*10 -> 210.25519 | I31: =A2_Rohdaten!I46*A1_HVPI!$D$16*10 -> 203.42555 | J31: =A2_Rohdaten!J46*A1_HVPI!$D$16*10 -> 198.05941 | K31: =A2_Rohdaten!K46*A1_HVPI!$D$16*10 -> 197.08375 | L31: =A2_Rohdaten!L46*A1_HVPI!$D$16*10 -> 198.74238 | ... AD31: =A2_Rohdaten!AD46*A1_HVPI!$D$16*10 -> 206.54767
B32: davon Beschaffung und Vertrieb | D32: EUR2023/MWh | E32: =A2_Rohdaten!E47*A1_HVPI!$D$16*10 -> 137.76349 | F32: =A2_Rohdaten!F47*A1_HVPI!$D$16*10 -> 101.3713 | G32: =A2_Rohdaten!G47*A1_HVPI!$D$16*10 -> 103.32262 | H32: =A2_Rohdaten!H47*A1_HVPI!$D$16*10 -> 92.004939 | I32: =A2_Rohdaten!I47*A1_HVPI!$D$16*10 -> 84.785039 | J32: =A2_Rohdaten!J47*A1_HVPI!$D$16*10 -> 76.491911 | K32: =A2_Rohdaten!K47*A1_HVPI!$D$16*10 -> 75.028418 | L32: =A2_Rohdaten!L47*A1_HVPI!$D$16*10 -> 76.491911 | ... AD32: =A2_Rohdaten!AD47*A1_HVPI!$D$16*10 -> 92.102505
B33: davon Netzentgelte | D33: EUR2023/MWh | E33: =A2_Rohdaten!E48*A1_HVPI!$D$16*10 -> 67.613386 | F33: =A2_Rohdaten!F48*A1_HVPI!$D$16*10 -> 62.735075 | G33: =A2_Rohdaten!G48*A1_HVPI!$D$16*10 -> 64.198568 | H33: =A2_Rohdaten!H48*A1_HVPI!$D$16*10 -> 66.345025 | I33: =A2_Rohdaten!I48*A1_HVPI!$D$16*10 -> 68.101217 | J33: =A2_Rohdaten!J48*A1_HVPI!$D$16*10 -> 72.198998 | K33: =A2_Rohdaten!K48*A1_HVPI!$D$16*10 -> 73.17466 | L33: =A2_Rohdaten!L48*A1_HVPI!$D$16*10 -> 73.467359 | ... AD33: =A2_Rohdaten!AD48*A1_HVPI!$D$16*10 -> 69.272011
B34: davon Konzessionsabgabe | D34: EUR2023/MWh | E34: =A2_Rohdaten!E49*A1_HVPI!$D$16*10 -> 19.513243 | F34: =A2_Rohdaten!F49*A1_HVPI!$D$16*10 -> 19.122978 | G34: =A2_Rohdaten!G49*A1_HVPI!$D$16*10 -> 18.732713 | H34: =A2_Rohdaten!H49*A1_HVPI!$D$16*10 -> 18.440014 | I34: =A2_Rohdaten!I49*A1_HVPI!$D$16*10 -> 18.049749 | J34: =A2_Rohdaten!J49*A1_HVPI!$D$16*10 -> 17.757051 | K34: =A2_Rohdaten!K49*A1_HVPI!$D$16*10 -> 17.366786 | L34: =A2_Rohdaten!L49*A1_HVPI!$D$16*10 -> 17.074087 | ... AD34: =A2_Rohdaten!AD49*A1_HVPI!$D$16*10 -> 12.195777
B35: davon Sonstige Umlagen | D35: EUR2023/MWh | E35: =A2_Rohdaten!E50*A1_HVPI!$D$16*10 -> 0 | F35: =A2_Rohdaten!F50*A1_HVPI!$D$16*10 -> 0 | G35: =A2_Rohdaten!G50*A1_HVPI!$D$16*10 -> 0 | H35: =A2_Rohdaten!H50*A1_HVPI!$D$16*10 -> 0 | I35: =A2_Rohdaten!I50*A1_HVPI!$D$16*10 -> 0 | J35: =A2_Rohdaten!J50*A1_HVPI!$D$16*10 -> 0 | K35: =A2_Rohdaten!K50*A1_HVPI!$D$16*10 -> 0 | L35: =A2_Rohdaten!L50*A1_HVPI!$D$16*10 -> 0 | ... AD35: =A2_Rohdaten!AD50*A1_HVPI!$D$16*10 -> 0
B36: davon MwSt. | D36: EUR2023/MWh | E36: =A2_Rohdaten!E51*A1_HVPI!$D$16*10 -> 42.734001 | F36: =A2_Rohdaten!F51*A1_HVPI!$D$16*10 -> 34.831138 | G36: =A2_Rohdaten!G51*A1_HVPI!$D$16*10 -> 35.416535 | H36: =A2_Rohdaten!H51*A1_HVPI!$D$16*10 -> 33.562777 | I36: =A2_Rohdaten!I51*A1_HVPI!$D$16*10 -> 32.489549 | J36: =A2_Rohdaten!J51*A1_HVPI!$D$16*10 -> 31.611453 | K36: =A2_Rohdaten!K51*A1_HVPI!$D$16*10 -> 31.416321 | L36: =A2_Rohdaten!L51*A1_HVPI!$D$16*10 -> 31.709019 | ... AD36: =A2_Rohdaten!AD51*A1_HVPI!$D$16*10 -> 32.97738
A37: Agora-KN45 (2024) | B37: Wärmepumpen-Tarif | D37: EUR2023/MWh | E37: =A2_Rohdaten!E58*10*A1_HVPI!$D$14 -> 253.50022 | J37: =A2_Rohdaten!J58*10*A1_HVPI!$D$14 -> 264.42895 | O37: =A2_Rohdaten!O58*10*A1_HVPI!$D$14 -> 290.07863 | T37: =A2_Rohdaten!T58*10*A1_HVPI!$D$14 -> 301.10501 | Y37: =A2_Rohdaten!Y58*10*A1_HVPI!$D$14 -> 288.48829
A38: BMWE-Langfristszenarien (2024) | B38: Wärmepumpen-Tarif | D38: EUR2023/MWh | E38: =A2_Rohdaten!E60*1000*A1_HVPI!$D$10 -> 290.36774 | J38: =A2_Rohdaten!J60*1000*A1_HVPI!$D$10 -> 287.94801 | O38: =A2_Rohdaten!O60*1000*A1_HVPI!$D$10 -> 302.4664 | T38: =A2_Rohdaten!T60*1000*A1_HVPI!$D$10 -> 314.56505 | Y38: =A2_Rohdaten!Y60*1000*A1_HVPI!$D$10 -> 314.56505

Sheet 03_Öl
A1: zum Inhalt
A4: Heizölpreis
A5: Szenario | C5: Einheit | D5: 2025 | E5: 2026 | F5: 2027 | G5: 2028 | H5: 2029 | I5: 2030 | J5: 2031 | K5: 2032 | L5: 2033 | M5: 2034 | N5: 2035 | O5: 2036 | P5: 2037 | Q5: 2038 | R5: 2039 | S5: 2040 | T5: 2041 | U5: 2042 | V5: 2043 | W5: 2044 | X5: 2045 | Y5: 2046 | Z5: 2047 | AA5: 2048 | AB5: 2049 | AC5: 2050 | AD5: Anmerkung
A6: UBA-Projektionsbericht (2026) | B6: Heizöl - Endverbraucherpreis mit MwSt. | C6: EUR2023/Liter | D6: =A2_Rohdaten!E71*A1_HVPI!$D$16 -> 0.95623567 | E6: =A2_Rohdaten!F71*A1_HVPI!$D$16 -> 0.93554299 | F6: =A2_Rohdaten!G71*A1_HVPI!$D$16 -> 0.96476422 | G6: =A2_Rohdaten!H71*A1_HVPI!$D$16 -> 1.0021314 | H6: =A2_Rohdaten!I71*A1_HVPI!$D$16 -> 1.037184 | I6: =A2_Rohdaten!J71*A1_HVPI!$D$16 -> 1.0714256 | J6: =A2_Rohdaten!K71*A1_HVPI!$D$16 -> 1.0992006 | K6: =A2_Rohdaten!L71*A1_HVPI!$D$16 -> 1.1261409 | ... AC6: =A2_Rohdaten!AD71*A1_HVPI!$D$16 -> 1.4424788 | AD6: =""
B7: davon Beschaffung und Vertrieb | C7: EUR2023/Liter | D7: =A2_Rohdaten!E72*A1_HVPI!$D$16 -> 0.60852779 | E7: =A2_Rohdaten!F72*A1_HVPI!$D$16 -> 0.57252335 | F7: =A2_Rohdaten!G72*A1_HVPI!$D$16 -> 0.56785427 | G7: =A2_Rohdaten!H72*A1_HVPI!$D$16 -> 0.57168535 | H7: =A2_Rohdaten!I72*A1_HVPI!$D$16 -> 0.57498343 | I7: =A2_Rohdaten!J72*A1_HVPI!$D$16 -> 0.57828827 | J7: =A2_Rohdaten!K72*A1_HVPI!$D$16 -> 0.57697575 | K7: =A2_Rohdaten!L72*A1_HVPI!$D$16 -> 0.57566323 | ... AC7: =A2_Rohdaten!AD72*A1_HVPI!$D$16 -> 0.53137784 | AD7: =""
B8: davon CO2-Preisaufschlag | C8: EUR2023/Liter | D8: =A2_Rohdaten!E73*A1_HVPI!$D$16 -> 0.1374317 | E8: =A2_Rohdaten!F73*A1_HVPI!$D$16 -> 0.15771547 | F8: =A2_Rohdaten!G73*A1_HVPI!$D$16 -> 0.18854431 | G8: =A2_Rohdaten!H73*A1_HVPI!$D$16 -> 0.21763383 | H8: =A2_Rohdaten!I73*A1_HVPI!$D$16 -> 0.24521327 | I8: =A2_Rohdaten!J73*A1_HVPI!$D$16 -> 0.27192361 | J8: =A2_Rohdaten!K73*A1_HVPI!$D$16 -> 0.29770432 | K8: =A2_Rohdaten!L73*A1_HVPI!$D$16 -> 0.32268439 | ... AC8: =A2_Rohdaten!AD73*A1_HVPI!$D$16 -> 0.64576386 | AD8: =""
B9: davon Energiesteuer | C9: EUR2023/Liter | D9: =A2_Rohdaten!E74*A1_HVPI!$D$16 -> 0.057599895 | E9: =A2_Rohdaten!F74*A1_HVPI!$D$16 -> 0.055931751 | F9: =A2_Rohdaten!G74*A1_HVPI!$D$16 -> 0.054327649 | G9: =A2_Rohdaten!H74*A1_HVPI!$D$16 -> 0.052808067 | H9: =A2_Rohdaten!I74*A1_HVPI!$D$16 -> 0.051386466 | I9: =A2_Rohdaten!J74*A1_HVPI!$D$16 -> 0.050145778 | J9: =A2_Rohdaten!K74*A1_HVPI!$D$16 -> 0.049017886 | K9: =A2_Rohdaten!L74*A1_HVPI!$D$16 -> 0.047989225 | ... AC9: =A2_Rohdaten!AD74*A1_HVPI!$D$16 -> 0.035025333 | AD9: =""
B10: davon MwSt. | C10: EUR2023/Liter | D10: =A2_Rohdaten!E75*A1_HVPI!$D$16 -> 0.15267628 | E10: =A2_Rohdaten!F75*A1_HVPI!$D$16 -> 0.14937241 | F10: =A2_Rohdaten!G75*A1_HVPI!$D$16 -> 0.15403798 | G10: =A2_Rohdaten!H75*A1_HVPI!$D$16 -> 0.16000418 | H10: =A2_Rohdaten!I75*A1_HVPI!$D$16 -> 0.1656008 | I10: =A2_Rohdaten!J75*A1_HVPI!$D$16 -> 0.17106796 | J10: =A2_Rohdaten!K75*A1_HVPI!$D$16 -> 0.17550261 | K10: =A2_Rohdaten!L75*A1_HVPI!$D$16 -> 0.179804 | ... AC10: =A2_Rohdaten!AD75*A1_HVPI!$D$16 -> 0.23031174 | AD10: =""
A11: Ariadne-Report (2025) | B11: Haushalte - hohe Nachfrage | C11: EUR2023/Liter | D11: =A2_Rohdaten!E76*A1_HVPI!$D$12*0.036 -> 1.01322 | I11: =A2_Rohdaten!J76*A1_HVPI!$D$12*0.036 -> 1.6651566 | N11: =A2_Rohdaten!O76*A1_HVPI!$D$12*0.036 -> 1.9874864 | S11: =A2_Rohdaten!T76*A1_HVPI!$D$12*0.036 -> 2.3102442 | X11: =A2_Rohdaten!Y76*A1_HVPI!$D$12*0.036 -> 2.6334301 | AC11: =A2_Rohdaten!AD76*A1_HVPI!$D$12*0.036 -> 2.6240128 | AD11: inkl. CO₂-Preis
A12: BMWE-Langfristszenarien (2024) | B12: Haushalte und GHD | C12: EUR2023/Liter | D12: =A2_Rohdaten!E123*10*A1_HVPI!$D$10 -> 0.85900457 | I12: =A2_Rohdaten!J123*10 *A1_HVPI!$D$10 -> 0.90739919 | S12: =A2_Rohdaten!T123*10*A1_HVPI!$D$10 -> 1.5002333 | X12: =A2_Rohdaten!Y123*10*A1_HVPI!$D$10 -> 1.4881347
A13: Agora KN45 (2024) | C13: EUR2023/Liter | D13: =A2_Rohdaten!E124*10*A1_HVPI!$D$14 -> 1.03 | I13: =A2_Rohdaten!J124*10*A1_HVPI!$D$14 -> 1.18 | N13: =A2_Rohdaten!O124*10*A1_HVPI!$D$14 -> 1.33 | S13: =A2_Rohdaten!T124*10*A1_HVPI!$D$14 -> 1.43 | X13: =A2_Rohdaten!Y124*10*A1_HVPI!$D$14 -> 1.51
A16: Erdölprodukte
A17: Szenario | C17: Einheit | D17: 2025 | E17: 2026 | F17: 2027 | G17: 2028 | H17: 2029 | I17: 2030 | J17: 2031 | K17: 2032 | L17: 2033 | M17: 2034 | N17: 2035 | O17: 2036 | P17: 2037 | Q17: 2038 | R17: 2039 | S17: 2040 | T17: 2041 | U17: 2042 | V17: 2043 | W17: 2044 | X17: 2045 | Y17: 2046 | Z17: 2047 | AA17: 2048 | AB17: 2049 | AC17: 2050 | AD17: Anmerkung
A18: UBA-Projektionsbericht (2026) | B18: Erdölprodukte - Diesel - Endverbraucherpreis mit MwSt. | C18: EUR2023/Liter | D18: =A2_Rohdaten!E61*A1_HVPI!$D$16 -> 1.5805727 | E18: =A2_Rohdaten!F61*A1_HVPI!$D$16 -> 1.5513028 | F18: =A2_Rohdaten!G61*A1_HVPI!$D$16 -> 1.570816 | G18: =A2_Rohdaten!H61*A1_HVPI!$D$16 -> 1.5903293 | H18: =A2_Rohdaten!I61*A1_HVPI!$D$16 -> 1.6195991 | I18: =A2_Rohdaten!J61*A1_HVPI!$D$16 -> 1.6391124 | J18: =A2_Rohdaten!K61*A1_HVPI!$D$16 -> 1.6586256 | K18: =A2_Rohdaten!L61*A1_HVPI!$D$16 -> 1.6781389 | ... AC18: =A2_Rohdaten!AD61*A1_HVPI!$D$16 -> 1.8927845 | AD18: =""
B19: davon Beschaffung und Vertrieb | C19: EUR2023/Liter | D19: =A2_Rohdaten!E62*A1_HVPI!$D$16 -> 0.75125984 | E19: =A2_Rohdaten!F62*A1_HVPI!$D$16 -> 0.71223336 | F19: =A2_Rohdaten!G62*A1_HVPI!$D$16 -> 0.71223336 | G19: =A2_Rohdaten!H62*A1_HVPI!$D$16 -> 0.71223336 | H19: =A2_Rohdaten!I62*A1_HVPI!$D$16 -> 0.71223336 | I19: =A2_Rohdaten!J62*A1_HVPI!$D$16 -> 0.72198998 | J19: =A2_Rohdaten!K62*A1_HVPI!$D$16 -> 0.71223336 | K19: =A2_Rohdaten!L62*A1_HVPI!$D$16 -> 0.71223336 | ... AC19: =A2_Rohdaten!AD62*A1_HVPI!$D$16 -> 0.67320687
B20: davon CO2-Preisaufschlag | C20: EUR2023/Liter | D20: =A2_Rohdaten!E63*A1_HVPI!$D$16 -> 0.1365927 | E20: =A2_Rohdaten!F63*A1_HVPI!$D$16 -> 0.15610594 | F20: =A2_Rohdaten!G63*A1_HVPI!$D$16 -> 0.18537581 | G20: =A2_Rohdaten!H63*A1_HVPI!$D$16 -> 0.21464567 | H20: =A2_Rohdaten!I63*A1_HVPI!$D$16 -> 0.24391553 | I20: =A2_Rohdaten!J63*A1_HVPI!$D$16 -> 0.2731854 | J20: =A2_Rohdaten!K63*A1_HVPI!$D$16 -> 0.30245526 | K20: =A2_Rohdaten!L63*A1_HVPI!$D$16 -> 0.3219685 | ... AC20: =A2_Rohdaten!AD63*A1_HVPI!$D$16 -> 0.64393701
B21: davon Energiesteuer | C21: EUR2023/Liter | D21: =A2_Rohdaten!E64*A1_HVPI!$D$16 -> 0.44880458 | E21: =A2_Rohdaten!F64*A1_HVPI!$D$16 -> 0.42929134 | F21: =A2_Rohdaten!G64*A1_HVPI!$D$16 -> 0.41953472 | G21: =A2_Rohdaten!H64*A1_HVPI!$D$16 -> 0.4097781 | H21: =A2_Rohdaten!I64*A1_HVPI!$D$16 -> 0.40002147 | I21: =A2_Rohdaten!J64*A1_HVPI!$D$16 -> 0.39026485 | J21: =A2_Rohdaten!K64*A1_HVPI!$D$16 -> 0.38050823 | K21: =A2_Rohdaten!L64*A1_HVPI!$D$16 -> 0.37075161 | ... AC21: =A2_Rohdaten!AD64*A1_HVPI!$D$16 -> 0.2731854
B22: davon MwSt. | C22: EUR2023/Liter | D22: =A2_Rohdaten!E65*A1_HVPI!$D$16 -> 0.25367215 | E22: =A2_Rohdaten!F65*A1_HVPI!$D$16 -> 0.24391553 | F22: =A2_Rohdaten!G65*A1_HVPI!$D$16 -> 0.25367215 | G22: =A2_Rohdaten!H65*A1_HVPI!$D$16 -> 0.25367215 | H22: =A2_Rohdaten!I65*A1_HVPI!$D$16 -> 0.25367215 | I22: =A2_Rohdaten!J65*A1_HVPI!$D$16 -> 0.26342878 | J22: =A2_Rohdaten!K65*A1_HVPI!$D$16 -> 0.26342878 | K22: =A2_Rohdaten!L65*A1_HVPI!$D$16 -> 0.26342878 | ... AC22: =A2_Rohdaten!AD65*A1_HVPI!$D$16 -> 0.30245526
B23: Erdölprodukte - Super - Endverbraucherpreis inkl. MwSt. - Gesamt | C23: EUR2023/Liter | D23: =A2_Rohdaten!E66*A1_HVPI!$D$16 -> 1.7561918 | E23: =A2_Rohdaten!F66*A1_HVPI!$D$16 -> 1.7074087 | F23: =A2_Rohdaten!G66*A1_HVPI!$D$16 -> 1.7171654 | G23: =A2_Rohdaten!H66*A1_HVPI!$D$16 -> 1.726922 | H23: =A2_Rohdaten!I66*A1_HVPI!$D$16 -> 1.7464352 | I23: =A2_Rohdaten!J66*A1_HVPI!$D$16 -> 1.7561918 | J23: =A2_Rohdaten!K66*A1_HVPI!$D$16 -> 1.7659485 | K23: =A2_Rohdaten!L66*A1_HVPI!$D$16 -> 1.7757051 | ... AC23: =A2_Rohdaten!AD66*A1_HVPI!$D$16 -> 1.8927845
B24: davon Beschaffung und Vertrieb | C24: EUR2023/Liter | D24: =A2_Rohdaten!E67*A1_HVPI!$D$16 -> 0.7317466 | E24: =A2_Rohdaten!F67*A1_HVPI!$D$16 -> 0.70247674 | F24: =A2_Rohdaten!G67*A1_HVPI!$D$16 -> 0.69272011 | G24: =A2_Rohdaten!H67*A1_HVPI!$D$16 -> 0.69272011 | H24: =A2_Rohdaten!I67*A1_HVPI!$D$16 -> 0.70247674 | I24: =A2_Rohdaten!J67*A1_HVPI!$D$16 -> 0.70247674 | J24: =A2_Rohdaten!K67*A1_HVPI!$D$16 -> 0.70247674 | K24: =A2_Rohdaten!L67*A1_HVPI!$D$16 -> 0.70247674 | ... AC24: =A2_Rohdaten!AD67*A1_HVPI!$D$16 -> 0.65369363
B25: davon CO2-Preisaufschlag | C25: EUR2023/Liter | D25: =A2_Rohdaten!E68*A1_HVPI!$D$16 -> 0.11707946 | E25: =A2_Rohdaten!F68*A1_HVPI!$D$16 -> 0.1365927 | F25: =A2_Rohdaten!G68*A1_HVPI!$D$16 -> 0.16586256 | G25: =A2_Rohdaten!H68*A1_HVPI!$D$16 -> 0.18537581 | H25: =A2_Rohdaten!I68*A1_HVPI!$D$16 -> 0.21464567 | I25: =A2_Rohdaten!J68*A1_HVPI!$D$16 -> 0.23415891 | J25: =A2_Rohdaten!K68*A1_HVPI!$D$16 -> 0.25367215 | K25: =A2_Rohdaten!L68*A1_HVPI!$D$16 -> 0.2731854 | ... AC25: =A2_Rohdaten!AD68*A1_HVPI!$D$16 -> 0.55612742
B26: davon Energiesteuer | C26: EUR2023/Liter | D26: =A2_Rohdaten!E69*A1_HVPI!$D$16 -> 0.61466714 | E26: =A2_Rohdaten!F69*A1_HVPI!$D$16 -> 0.60491052 | F26: =A2_Rohdaten!G69*A1_HVPI!$D$16 -> 0.58539728 | G26: =A2_Rohdaten!H69*A1_HVPI!$D$16 -> 0.56588404 | H26: =A2_Rohdaten!I69*A1_HVPI!$D$16 -> 0.55612742 | I26: =A2_Rohdaten!J69*A1_HVPI!$D$16 -> 0.53661417 | J26: =A2_Rohdaten!K69*A1_HVPI!$D$16 -> 0.52685755 | K26: =A2_Rohdaten!L69*A1_HVPI!$D$16 -> 0.51710093 | ... AC26: =A2_Rohdaten!AD69*A1_HVPI!$D$16 -> 0.38050823
B27: davon MwSt. | C27: EUR2023/Liter | D27: =A2_Rohdaten!E70*A1_HVPI!$D$16 -> 0.28294202 | E27: =A2_Rohdaten!F70*A1_HVPI!$D$16 -> 0.2731854 | F27: =A2_Rohdaten!G70*A1_HVPI!$D$16 -> 0.2731854 | G27: =A2_Rohdaten!H70*A1_HVPI!$D$16 -> 0.2731854 | H27: =A2_Rohdaten!I70*A1_HVPI!$D$16 -> 0.28294202 | I27: =A2_Rohdaten!J70*A1_HVPI!$D$16 -> 0.28294202 | J27: =A2_Rohdaten!K70*A1_HVPI!$D$16 -> 0.28294202 | K27: =A2_Rohdaten!L70*A1_HVPI!$D$16 -> 0.28294202 | ... AC27: =A2_Rohdaten!AD70*A1_HVPI!$D$16 -> 0.30245526

Sheet 04_Biomasse
A1: zum Inhalt
A3: Biomassepreise
A4: Szenario | C4: Einheit | D4: 2025 | E4: 2026 | F4: 2027 | G4: 2028 | H4: 2029 | I4: 2030 | J4: 2031 | K4: 2032 | L4: 2033 | M4: 2034 | N4: 2035 | O4: 2036 | P4: 2037 | Q4: 2038 | R4: 2039 | S4: 2040 | T4: 2041 | U4: 2042 | V4: 2043 | W4: 2044 | X4: 2045 | Y4: 2046 | Z4: 2047 | AA4: 2048 | AB4: 2049 | AC4: 2050 | AD4: Anmerkung
A5: UBA-Projektionsbericht (2026) | B5: Holzpellets - Endverbraucherpreis inkl. MwSt. | C5: EUR2023/MWh | D5: =A2_Rohdaten!E77*A1_HVPI!$D$16 -> 60.510565 | E5: =A2_Rohdaten!F77*A1_HVPI!$D$16 -> 56.764023 | F5: =A2_Rohdaten!G77*A1_HVPI!$D$16 -> 56.881102 | G5: =A2_Rohdaten!H77*A1_HVPI!$D$16 -> 56.62743 | H5: =A2_Rohdaten!I77*A1_HVPI!$D$16 -> 56.490838 | I5: =A2_Rohdaten!J77*A1_HVPI!$D$16 -> 56.227409 | J5: =A2_Rohdaten!K77*A1_HVPI!$D$16 -> 56.881102 | K5: =A2_Rohdaten!L77*A1_HVPI!$D$16 -> 58.178733 | ... AC5: =A2_Rohdaten!AD77*A1_HVPI!$D$16 -> 85.468003
B6: Scheitholz - Endverbraucherpreis inkl. MwSt. | C6: EUR2023/MWh | D6: =A2_Rohdaten!E78*A1_HVPI!$D$16 -> 90.482906 | E6: =A2_Rohdaten!F78*A1_HVPI!$D$16 -> 84.872849 | F6: =A2_Rohdaten!G78*A1_HVPI!$D$16 -> 85.038712 | G6: =A2_Rohdaten!H78*A1_HVPI!$D$16 -> 84.66796 | H6: =A2_Rohdaten!I78*A1_HVPI!$D$16 -> 84.463071 | I6: =A2_Rohdaten!J78*A1_HVPI!$D$16 -> 84.072806 | J6: =A2_Rohdaten!K78*A1_HVPI!$D$16 -> 85.058225 | K6: =A2_Rohdaten!L78*A1_HVPI!$D$16 -> 86.990036 | ... AC6: =A2_Rohdaten!AD78*A1_HVPI!$D$16 -> 127.79223
B7: Hackschnitzel WG 20 - Endverbraucherpreis inkl. MwSt. | C7: EUR2023/MWh | D7: =A2_Rohdaten!E79*A1_HVPI!$D$16 -> 35.640938 | E7: =A2_Rohdaten!F79*A1_HVPI!$D$16 -> 33.435941 | F7: =A2_Rohdaten!G79*A1_HVPI!$D$16 -> 33.504238 | G7: =A2_Rohdaten!H79*A1_HVPI!$D$16 -> 33.357888 | H7: =A2_Rohdaten!I79*A1_HVPI!$D$16 -> 33.270079 | I7: =A2_Rohdaten!J79*A1_HVPI!$D$16 -> 33.123729 | J7: =A2_Rohdaten!K79*A1_HVPI!$D$16 -> 33.504238 | K7: =A2_Rohdaten!L79*A1_HVPI!$D$16 -> 34.275011 | ... AC7: =A2_Rohdaten!AD79*A1_HVPI!$D$16 -> 50.344166
B8: Hackschnitzel WG 35 - Endverbraucherpreis inkl. MwSt. | C8: EUR2023/MWh | D8: =A2_Rohdaten!E80*A1_HVPI!$D$16 -> 27.738074 | E8: =A2_Rohdaten!F80*A1_HVPI!$D$16 -> 26.020909 | F8: =A2_Rohdaten!G80*A1_HVPI!$D$16 -> 26.079449 | G8: =A2_Rohdaten!H80*A1_HVPI!$D$16 -> 25.962369 | H8: =A2_Rohdaten!I80*A1_HVPI!$D$16 -> 25.894073 | I8: =A2_Rohdaten!J80*A1_HVPI!$D$16 -> 25.776994 | J8: =A2_Rohdaten!K80*A1_HVPI!$D$16 -> 26.079449 | K8: =A2_Rohdaten!L80*A1_HVPI!$D$16 -> 26.674603 | ... AC8: =A2_Rohdaten!AD80*A1_HVPI!$D$16 -> 39.182591
B9: Biomethan - Endverbraucherpreis inkl. MwSt. | C9: EUR2023/MWh | D9: =A2_Rohdaten!E21*A1_HVPI!$D$16 -> 189.60136 | E9: =A2_Rohdaten!F21*A1_HVPI!$D$16 -> 173.26132 | F9: =A2_Rohdaten!G21*A1_HVPI!$D$16 -> 171.51669 | G9: =A2_Rohdaten!H21*A1_HVPI!$D$16 -> 168.41089 | H9: =A2_Rohdaten!I21*A1_HVPI!$D$16 -> 165.71667 | I9: =A2_Rohdaten!J21*A1_HVPI!$D$16 -> 166.49777 | J9: =A2_Rohdaten!K21*A1_HVPI!$D$16 -> 167.80233 | K9: =A2_Rohdaten!L21*A1_HVPI!$D$16 -> 171.53001 | ... AC9: =A2_Rohdaten!AD21*A1_HVPI!$D$16 -> 247.82669
A10: BMWE-Langfristszenarien (2024) | B10: Holzpellets - Endverbraucherpreis inkl. MwSt. | C10: EUR2023/MWh | D10: =A2_Rohdaten!E81*A1_HVPI!$D$10*1000 -> 80.214088 | I10: =A2_Rohdaten!J81*A1_HVPI!$D$10*1000 -> 59.76736 | N10: =A2_Rohdaten!O81*A1_HVPI!$D$10*1000 -> 58.557494 | S10: =A2_Rohdaten!T81*A1_HVPI!$D$10*1000 -> 57.347629 | X10: =A2_Rohdaten!Y81*A1_HVPI!$D$10*1000 -> 56.25875
B11: Hackschnitzel | C11: EUR2023/MWh | D11: =A2_Rohdaten!E82*A1_HVPI!$D$10*1000 -> 33.634263 | I11: =A2_Rohdaten!J82*A1_HVPI!$D$10*1000 -> 25.044218 | N11: =A2_Rohdaten!O82*A1_HVPI!$D$10*1000 -> 24.560271 | S11: =A2_Rohdaten!T82*A1_HVPI!$D$10*1000 -> 24.076325 | X11: =A2_Rohdaten!Y82*A1_HVPI!$D$10*1000 -> 23.592379
B12: Scheitholz | C12: EUR2023/MWh | D12: =A2_Rohdaten!E83*A1_HVPI!$D$10*1000 -> 101.02378 | I12: =A2_Rohdaten!J83*A1_HVPI!$D$10*1000 -> 76.947451 | N12: =A2_Rohdaten!O83*A1_HVPI!$D$10*1000 -> 75.374626 | S12: =A2_Rohdaten!T83*A1_HVPI!$D$10*1000 -> 73.922787 | X12: =A2_Rohdaten!Y83*A1_HVPI!$D$10*1000 -> 72.349962

Sheet 05_Fernwärme
A1: zum Inhalt
A3: Fernwärme
A4: Szenario | C4: Einheit | D4: 2025 | E4: 2026 | F4: 2027 | G4: 2028 | H4: 2029 | I4: 2030 | J4: 2031 | K4: 2032 | L4: 2033 | M4: 2034 | N4: 2035 | O4: 2036 | P4: 2037 | Q4: 2038 | R4: 2039 | S4: 2040 | T4: 2041 | U4: 2042 | V4: 2043 | W4: 2044 | X4: 2045 | Y4: 2046 | Z4: 2047 | AA4: 2048 | AB4: 2049 | AC4: 2050 | AD4: Anmerkung
A5: UBA-Projektionsbericht (2026) | B5: Fernwärme - Endverbraucher | C5: EUR2023/MWh | D5: =A2_Rohdaten!E84*A1_HVPI!$D$16 -> 140.19289 | E5: =A2_Rohdaten!F84*A1_HVPI!$D$16 -> 131.5095 | F5: =A2_Rohdaten!G84*A1_HVPI!$D$16 -> 131.77293 | G5: =A2_Rohdaten!H84*A1_HVPI!$D$16 -> 131.19729 | H5: =A2_Rohdaten!I84*A1_HVPI!$D$16 -> 130.87532 | I5: =A2_Rohdaten!J84*A1_HVPI!$D$16 -> 130.27041 | J5: =A2_Rohdaten!K84*A1_HVPI!$D$16 -> 131.79244 | K5: =A2_Rohdaten!L84*A1_HVPI!$D$16 -> 134.78772 | ... AC5: =A2_Rohdaten!AD84*A1_HVPI!$D$16 -> 123.08953
A6: Agora-WN (2024) | B6: Großberg: ohne Förderung | C6: EUR2023/MWh | D6: =A2_Rohdaten!E85 -> 159 | I6: =A2_Rohdaten!J85 -> 159 | N6: =A2_Rohdaten!O85 -> 171 | S6: =A2_Rohdaten!T85 -> 155 | X6: =A2_Rohdaten!Y85 -> 158
B7: Mittelberg: ohne Förderung | C7: EUR2023/MWh | D7: =A2_Rohdaten!E86 -> 121 | I7: =A2_Rohdaten!J86 -> 136 | N7: =A2_Rohdaten!O86 -> 138 | S7: =A2_Rohdaten!T86 -> 164 | X7: =A2_Rohdaten!Y86 -> 151
B8: Landberg: ohne Förderung | C8: EUR2023/MWh | D8: =A2_Rohdaten!E87 -> 177 | I8: =A2_Rohdaten!J87 -> 164 | N8: =A2_Rohdaten!O87 -> 172 | S8: =A2_Rohdaten!T87 -> 163 | X8: =A2_Rohdaten!Y87 -> 179
A9: BMWE-Langfristszenarien (2024) | C9: EUR2023/MWh | D9: =A2_Rohdaten!E88*1000*A1_HVPI!$D$10 -> 112.15454 | I9: =A2_Rohdaten!J88*1000*A1_HVPI!$D$10 -> 100.41884 | N9: =A2_Rohdaten!O88*1000*A1_HVPI!$D$10 -> 99.571938 | S9: =A2_Rohdaten!T88*1000*A1_HVPI!$D$10 -> 103.56449 | X9: =A2_Rohdaten!Y88*1000*A1_HVPI!$D$10 -> 105.50028

Sheet 06_Wasserstoff
A1: zum Inhalt
A4: Wasserstoffpreis
A5: Szenario | C5: N/E | D5: Einheit | E5: 2025 | F5: 2026 | G5: 2027 | H5: 2028 | I5: 2029 | J5: 2030 | K5: 2031 | L5: 2032 | M5: 2033 | N5: 2034 | O5: 2035 | P5: 2036 | Q5: 2037 | R5: 2038 | S5: 2039 | T5: 2040 | U5: 2041 | V5: 2042 | W5: 2043 | X5: 2044 | Y5: 2045 | Z5: 2046 | AA5: 2047 | AB5: 2048 | AC5: 2049 | AD5: 2050 | AE5: Anmerkung
A6: UBA-Projektionsbericht (2026) | B6: Wasserstoff grün Haushalt - Endverbraucherpreis inkl. MwSt. | C6: ="" | D6: EUR2023/MWh | L6: =A2_Rohdaten!L89*A1_HVPI!$D$16 -> 259.60054 | M6: =A2_Rohdaten!M89*A1_HVPI!$D$16 -> 253.38322 | N6: =A2_Rohdaten!N89*A1_HVPI!$D$16 -> 247.16589 | O6: =A2_Rohdaten!O89*A1_HVPI!$D$16 -> 240.94856 | P6: =A2_Rohdaten!P89*A1_HVPI!$D$16 -> 236.71072 | Q6: =A2_Rohdaten!Q89*A1_HVPI!$D$16 -> 232.47287 | R6: =A2_Rohdaten!R89*A1_HVPI!$D$16 -> 228.23503 | S6: =A2_Rohdaten!S89*A1_HVPI!$D$16 -> 223.99718 | ... AD6: =A2_Rohdaten!AD89*A1_HVPI!$D$16 -> 194.71852
B7: davon Beschaffung und Vertrieb | C7: ="" | D7: EUR2023/MWh | L7: =A2_Rohdaten!L90*A1_HVPI!$D$16 -> 143.14827 | M7: =A2_Rohdaten!M90*A1_HVPI!$D$16 -> 140.00025 | N7: =A2_Rohdaten!N90*A1_HVPI!$D$16 -> 136.85223 | O7: =A2_Rohdaten!O90*A1_HVPI!$D$16 -> 133.70422 | P7: =A2_Rohdaten!P90*A1_HVPI!$D$16 -> 132.21962 | Q7: =A2_Rohdaten!Q90*A1_HVPI!$D$16 -> 130.73503 | R7: =A2_Rohdaten!R90*A1_HVPI!$D$16 -> 129.25044 | S7: =A2_Rohdaten!S90*A1_HVPI!$D$16 -> 127.76585 | ... AD7: =A2_Rohdaten!AD90*A1_HVPI!$D$16 -> 111.62817
B8: davon Netzentgelte | C8: ="" | D8: EUR2023/MWh | L8: =A2_Rohdaten!L91*A1_HVPI!$D$16 -> 75.003441 | M8: =A2_Rohdaten!M91*A1_HVPI!$D$16 -> 72.926817 | N8: =A2_Rohdaten!N91*A1_HVPI!$D$16 -> 70.850194 | O8: =A2_Rohdaten!O91*A1_HVPI!$D$16 -> 68.77357 | P8: =A2_Rohdaten!P91*A1_HVPI!$D$16 -> 66.696946 | Q8: =A2_Rohdaten!Q91*A1_HVPI!$D$16 -> 64.620323 | R8: =A2_Rohdaten!R91*A1_HVPI!$D$16 -> 62.543699 | S8: =A2_Rohdaten!S91*A1_HVPI!$D$16 -> 60.467075 | ... AD8: =A2_Rohdaten!AD91*A1_HVPI!$D$16 -> 52.00084
B9: davon MwSt. | C9: ="" | D9: EUR2023/MWh | L9: =A2_Rohdaten!L92*A1_HVPI!$D$16 -> 41.448826 | M9: =A2_Rohdaten!M92*A1_HVPI!$D$16 -> 40.456144 | N9: =A2_Rohdaten!N92*A1_HVPI!$D$16 -> 39.463461 | O9: =A2_Rohdaten!O92*A1_HVPI!$D$16 -> 38.470779 | P9: =A2_Rohdaten!P92*A1_HVPI!$D$16 -> 37.794148 | Q9: =A2_Rohdaten!Q92*A1_HVPI!$D$16 -> 37.117518 | R9: =A2_Rohdaten!R92*A1_HVPI!$D$16 -> 36.440887 | S9: =A2_Rohdaten!S92*A1_HVPI!$D$16 -> 35.764256 | ... AD9: =A2_Rohdaten!AD92*A1_HVPI!$D$16 -> 31.089512
B10: Wasserstoff grün Tankstelle - Endverbraucherpreis | C10: ="" | D10: EUR2023/MWh | E10: =A2_Rohdaten!E93*A1_HVPI!$D$16 -> 329.42955 | F10: =A2_Rohdaten!F93*A1_HVPI!$D$16 -> 328.93874 | G10: =A2_Rohdaten!G93*A1_HVPI!$D$16 -> 315.90996 | H10: =A2_Rohdaten!H93*A1_HVPI!$D$16 -> 306.33847 | I10: =A2_Rohdaten!I93*A1_HVPI!$D$16 -> 291.01299 | J10: =A2_Rohdaten!J93*A1_HVPI!$D$16 -> 271.63613 | K10: =A2_Rohdaten!K93*A1_HVPI!$D$16 -> 269.06268 | L10: =A2_Rohdaten!L93*A1_HVPI!$D$16 -> 243.6165 | ... AD10: =A2_Rohdaten!AD93*A1_HVPI!$D$16 -> 189.09379
B11: davon Beschaffung und Vertrieb | C11: ="" | D11: EUR2023/MWh | E11: =A2_Rohdaten!E94*A1_HVPI!$D$16 -> 299.72064 | F11: =A2_Rohdaten!F94*A1_HVPI!$D$16 -> 299.22983 | G11: =A2_Rohdaten!G94*A1_HVPI!$D$16 -> 286.20105 | H11: =A2_Rohdaten!H94*A1_HVPI!$D$16 -> 276.62956 | I11: =A2_Rohdaten!I94*A1_HVPI!$D$16 -> 261.30408 | J11: =A2_Rohdaten!J94*A1_HVPI!$D$16 -> 241.92722 | K11: =A2_Rohdaten!K94*A1_HVPI!$D$16 -> 239.35377 | L11: =A2_Rohdaten!L94*A1_HVPI!$D$16 -> 143.14827 | ... AD11: =A2_Rohdaten!AD94*A1_HVPI!$D$16 -> 111.62817
B12: davon Netzentgelte und Tankstellenbetrieb | C12: ="" | D12: EUR2023/MWh | E12: =A2_Rohdaten!E95*A1_HVPI!$D$16 -> 29.708912 | F12: =A2_Rohdaten!F95*A1_HVPI!$D$16 -> 29.708912 | G12: =A2_Rohdaten!G95*A1_HVPI!$D$16 -> 29.708912 | H12: =A2_Rohdaten!H95*A1_HVPI!$D$16 -> 29.708912 | I12: =A2_Rohdaten!I95*A1_HVPI!$D$16 -> 29.708912 | J12: =A2_Rohdaten!J95*A1_HVPI!$D$16 -> 29.708912 | K12: =A2_Rohdaten!K95*A1_HVPI!$D$16 -> 29.708912 | L12: =A2_Rohdaten!L95*A1_HVPI!$D$16 -> 100.46822 | ... AD12: =A2_Rohdaten!AD95*A1_HVPI!$D$16 -> 77.465622
B13: Wasserstoff grün industrieller Großverbraucher - Endverbraucherpreis | C13: ="" | D13: EUR2023/MWh | L13: =A2_Rohdaten!L96*A1_HVPI!$D$16 -> 157.78321 | M13: =A2_Rohdaten!M96*A1_HVPI!$D$16 -> 157.78321 | N13: =A2_Rohdaten!N96*A1_HVPI!$D$16 -> 157.78321 | O13: =A2_Rohdaten!O96*A1_HVPI!$D$16 -> 148.33915 | P13: =A2_Rohdaten!P96*A1_HVPI!$D$16 -> 146.85456 | Q13: =A2_Rohdaten!Q96*A1_HVPI!$D$16 -> 145.36997 | R13: =A2_Rohdaten!R96*A1_HVPI!$D$16 -> 143.88537 | S13: =A2_Rohdaten!S96*A1_HVPI!$D$16 -> 142.40078 | ... AD13: =A2_Rohdaten!AD96*A1_HVPI!$D$16 -> 126.2631
B14: davon Beschaffung und Vertrieb | C14: ="" | D14: EUR2023/MWh | L14: =A2_Rohdaten!L97*A1_HVPI!$D$16 -> 143.14827 | M14: =A2_Rohdaten!M97*A1_HVPI!$D$16 -> 143.14827 | N14: =A2_Rohdaten!N97*A1_HVPI!$D$16 -> 143.14827 | O14: =A2_Rohdaten!O97*A1_HVPI!$D$16 -> 133.70422 | P14: =A2_Rohdaten!P97*A1_HVPI!$D$16 -> 132.21962 | Q14: =A2_Rohdaten!Q97*A1_HVPI!$D$16 -> 130.73503 | R14: =A2_Rohdaten!R97*A1_HVPI!$D$16 -> 129.25044 | S14: =A2_Rohdaten!S97*A1_HVPI!$D$16 -> 127.76585 | ... AD14: =A2_Rohdaten!AD97*A1_HVPI!$D$16 -> 111.62817
B15: davon Netzentgelte | C15: ="" | D15: EUR2023/MWh | L15: =A2_Rohdaten!L98*A1_HVPI!$D$16 -> 14.634932 | M15: =A2_Rohdaten!M98*A1_HVPI!$D$16 -> 14.634932 | N15: =A2_Rohdaten!N98*A1_HVPI!$D$16 -> 14.634932 | O15: =A2_Rohdaten!O98*A1_HVPI!$D$16 -> 14.634932 | P15: =A2_Rohdaten!P98*A1_HVPI!$D$16 -> 14.634932 | Q15: =A2_Rohdaten!Q98*A1_HVPI!$D$16 -> 14.634932 | R15: =A2_Rohdaten!R98*A1_HVPI!$D$16 -> 14.634932 | S15: =A2_Rohdaten!S98*A1_HVPI!$D$16 -> 14.634932 | ... AD15: =A2_Rohdaten!AD98*A1_HVPI!$D$16 -> 14.634932
B16: Wasserstoff grün industrieller Großverbraucher - Endverbraucherpreis lokale Produktion | C16: ="" | D16: EUR2023/MWh | E16: =A2_Rohdaten!E99*A1_HVPI!$D$16 -> 328.77852 | F16: =A2_Rohdaten!F99*A1_HVPI!$D$16 -> 314.16491 | G16: =A2_Rohdaten!G99*A1_HVPI!$D$16 -> 299.5513 | H16: =A2_Rohdaten!H99*A1_HVPI!$D$16 -> 284.93769 | I16: =A2_Rohdaten!I99*A1_HVPI!$D$16 -> 270.32408 | J16: =A2_Rohdaten!J99*A1_HVPI!$D$16 -> 255.71047 | K16: =A2_Rohdaten!K99*A1_HVPI!$D$16 -> 241.09686
B17: Wasserstoff grün industrieller Großverbraucher - Endverbraucherpreis Import H2 Global | C17: ="" | D17: EUR2023/MWh | E17: =A2_Rohdaten!E100*A1_HVPI!$D$16 -> 181.46657 | F17: =A2_Rohdaten!F100*A1_HVPI!$D$16 -> 177.76522 | G17: =A2_Rohdaten!G100*A1_HVPI!$D$16 -> 174.20597 | H17: =A2_Rohdaten!H100*A1_HVPI!$D$16 -> 170.83426 | I17: =A2_Rohdaten!I100*A1_HVPI!$D$16 -> 167.67995 | J17: =A2_Rohdaten!J100*A1_HVPI!$D$16 -> 164.92705 | K17: =A2_Rohdaten!K100*A1_HVPI!$D$16 -> 162.42444
B18: Wasserstoff blau industrieller Großverbraucher - Endverbraucherpreis | C18: ="" | D18: EUR2023/MWh | L18: =A2_Rohdaten!L101*A1_HVPI!$D$16 -> 118.80967 | M18: =A2_Rohdaten!M101*A1_HVPI!$D$16 -> 118.57794 | N18: =A2_Rohdaten!N101*A1_HVPI!$D$16 -> 118.3462 | O18: =A2_Rohdaten!O101*A1_HVPI!$D$16 -> 118.11447 | P18: =A2_Rohdaten!P101*A1_HVPI!$D$16 -> 116.45502 | Q18: =A2_Rohdaten!Q101*A1_HVPI!$D$16 -> 114.79556 | R18: =A2_Rohdaten!R101*A1_HVPI!$D$16 -> 113.13611 | S18: =A2_Rohdaten!S101*A1_HVPI!$D$16 -> 111.47665 | ... AD18: =A2_Rohdaten!AD101*A1_HVPI!$D$16 -> 101.70341
B19: davon Beschaffung und Vertrieb | C19: ="" | D19: EUR2023/MWh | L19: =A2_Rohdaten!L102*A1_HVPI!$D$16 -> 104.17474 | M19: =A2_Rohdaten!M102*A1_HVPI!$D$16 -> 103.943 | N19: =A2_Rohdaten!N102*A1_HVPI!$D$16 -> 103.71127 | O19: =A2_Rohdaten!O102*A1_HVPI!$D$16 -> 103.47954 | P19: =A2_Rohdaten!P102*A1_HVPI!$D$16 -> 101.82009 | Q19: =A2_Rohdaten!Q102*A1_HVPI!$D$16 -> 100.16063 | R19: =A2_Rohdaten!R102*A1_HVPI!$D$16 -> 98.501175 | S19: =A2_Rohdaten!S102*A1_HVPI!$D$16 -> 96.841719 | ... AD19: =A2_Rohdaten!AD102*A1_HVPI!$D$16 -> 87.068478
B20: davon Netzentgelte | C20: ="" | D20: EUR2023/MWh | L20: =A2_Rohdaten!L103*A1_HVPI!$D$16 -> 14.634932 | M20: =A2_Rohdaten!M103*A1_HVPI!$D$16 -> 14.634932 | N20: =A2_Rohdaten!N103*A1_HVPI!$D$16 -> 14.634932 | O20: =A2_Rohdaten!O103*A1_HVPI!$D$16 -> 14.634932 | P20: =A2_Rohdaten!P103*A1_HVPI!$D$16 -> 14.634932 | Q20: =A2_Rohdaten!Q103*A1_HVPI!$D$16 -> 14.634932 | R20: =A2_Rohdaten!R103*A1_HVPI!$D$16 -> 14.634932 | S20: =A2_Rohdaten!S103*A1_HVPI!$D$16 -> 14.634932 | ... AD20: =A2_Rohdaten!AD103*A1_HVPI!$D$16 -> 14.634932
B21: Wasserstoff grau Tankstelle - Endverbraucherpreis | C21: ="" | D21: EUR2023/MWh | E21: =A2_Rohdaten!E104*A1_HVPI!$D$16 -> 393.54439 | F21: =A2_Rohdaten!F104*A1_HVPI!$D$16 -> 361.40472 | G21: =A2_Rohdaten!G104*A1_HVPI!$D$16 -> 341.71402 | H21: =A2_Rohdaten!H104*A1_HVPI!$D$16 -> 304.30096 | I21: =A2_Rohdaten!I104*A1_HVPI!$D$16 -> 266.05432 | J21: =A2_Rohdaten!J104*A1_HVPI!$D$16 -> 228.05621 | K21: =A2_Rohdaten!K104*A1_HVPI!$D$16 -> 196.36313 | L21: =A2_Rohdaten!L104*A1_HVPI!$D$16 -> 163.90817 | ... AD21: =A2_Rohdaten!AD104*A1_HVPI!$D$16 -> 160.69661
B22: davon Beschaffung und Vertrieb | C22: ="" | D22: EUR2023/MWh | E22: =A2_Rohdaten!E105*A1_HVPI!$D$16 -> 116.23196 | F22: =A2_Rohdaten!F105*A1_HVPI!$D$16 -> 97.957907 | G22: =A2_Rohdaten!G105*A1_HVPI!$D$16 -> 91.439548 | H22: =A2_Rohdaten!H105*A1_HVPI!$D$16 -> 83.987742 | I22: =A2_Rohdaten!I105*A1_HVPI!$D$16 -> 75.702352 | J22: =A2_Rohdaten!J105*A1_HVPI!$D$16 -> 67.665491 | K22: =A2_Rohdaten!K105*A1_HVPI!$D$16 -> 65.933655 | L22: =A2_Rohdaten!L105*A1_HVPI!$D$16 -> 63.43995 | ... AD22: =A2_Rohdaten!AD105*A1_HVPI!$D$16 -> 83.230988
B23: davon Netzentgelte und Tankstellenbetrieb | C23: ="" | D23: EUR2023/MWh | E23: =A2_Rohdaten!E106*A1_HVPI!$D$16 -> 277.31243 | F23: =A2_Rohdaten!F106*A1_HVPI!$D$16 -> 263.44681 | G23: =A2_Rohdaten!G106*A1_HVPI!$D$16 -> 250.27447 | H23: =A2_Rohdaten!H106*A1_HVPI!$D$16 -> 220.31322 | I23: =A2_Rohdaten!I106*A1_HVPI!$D$16 -> 190.35197 | J23: =A2_Rohdaten!J106*A1_HVPI!$D$16 -> 160.39072 | K23: =A2_Rohdaten!K106*A1_HVPI!$D$16 -> 130.42947 | L23: =A2_Rohdaten!L106*A1_HVPI!$D$16 -> 100.46822 | ... AD23: =A2_Rohdaten!AD106*A1_HVPI!$D$16 -> 77.465622

Sheet 07_EU ETS 2
A1: zum Inhalt
A3: EU-ETS-2-Preis
A4: Szenario | B4: Einheit | C4: 2025 | D4: 2026 | E4: 2027 | F4: 2028 | G4: 2029 | H4: 2030 | I4: 2031 | J4: 2032 | K4: 2033 | L4: 2034 | M4: 2035 | N4: 2036 | O4: 2037 | P4: 2038 | Q4: 2039 | R4: 2040 | S4: 2041 | T4: 2042 | U4: 2043 | V4: 2044 | W4: 2045 | X4: 2046 | Y4: 2047 | Z4: 2048 | AA4: 2049 | AB4: 2050 | AC4: Anmerkung
A5: Ariadne-Report (2025) | B5: EUR2023/t CO2 | C5: =A2_Rohdaten!E125*A1_HVPI!$D$12 -> 129.6073 | H5: =A2_Rohdaten!J125*A1_HVPI!$D$12 -> 237.81157 | M5: =A2_Rohdaten!O125*A1_HVPI!$D$12 -> 356.71735 | R5: =A2_Rohdaten!T125*A1_HVPI!$D$12 -> 475.62313 | W5: =A2_Rohdaten!Y125*A1_HVPI!$D$12 -> 594.52891 | AB5: =A2_Rohdaten!AD125*A1_HVPI!$D$12 -> 594.52891
A6: UBA-Projektionsbericht (2026) | B6: EUR2023/t CO2 | C6: =A2_Rohdaten!E126*A1_HVPI!$D$16 -> 51.710093 | D6: =A2_Rohdaten!F126*A1_HVPI!$D$16 -> 59.51539 | E6: =A2_Rohdaten!G126*A1_HVPI!$D$16 -> 71.223336 | F6: =A2_Rohdaten!H126*A1_HVPI!$D$16 -> 81.955619 | G6: =A2_Rohdaten!I126*A1_HVPI!$D$16 -> 92.687903 | H6: =A2_Rohdaten!J126*A1_HVPI!$D$16 -> 103.42019 | I6: =A2_Rohdaten!K126*A1_HVPI!$D$16 -> 113.17681 | J6: =A2_Rohdaten!L126*A1_HVPI!$D$16 -> 121.95777 | ... AB6: =A2_Rohdaten!AD126*A1_HVPI!$D$16 -> 244.8912
A7: Agora-KN45 (2024) | B7: EUR2023/t CO2 | C7: =A2_Rohdaten!E127*A1_HVPI!$D$14 -> 88.719783 | H7: =A2_Rohdaten!J127*A1_HVPI!$D$14 -> 140.27525 | M7: =A2_Rohdaten!O127*A1_HVPI!$D$14 -> 164.73368 | R7: =A2_Rohdaten!T127*A1_HVPI!$D$14 -> 189.33349 | W7: =A2_Rohdaten!Y127*A1_HVPI!$D$14 -> 205.62012
A8: BMWE-Langfristszenarien (2024) | B8: EUR2023/t CO3 | C8: =A2_Rohdaten!E128*A1_HVPI!$D$10 -> 66.542607 | H8: =A2_Rohdaten!J128*A1_HVPI!$D$10 -> 120.98656 | M8: =A2_Rohdaten!O128*A1_HVPI!$D$10 -> 241.97312 | R8: =A2_Rohdaten!T128*A1_HVPI!$D$10 -> 362.95968 | W8: =A2_Rohdaten!Y128*A1_HVPI!$D$10 -> 362.95968 | AB8: =A2_Rohdaten!AD128*A1_HVPI!$D$10 -> 362.95968

Sheet A1_HVPI
B2: Harmonisierter Verbraucherpreisindex
B4: Eurostat (2026) Harmonisierter Verbraucherpreisindex - ECOICOP ver.2 - Index und Veränderungsrate, Jährliche Daten (Online-Datencode: prc_hicp_ainr), abgerufen am 17. September 2026
B5: Link: https://ec.europa.eu/eurostat/databrowser/view/prc_hicp_ainr/default/table?lang=en&category=prc.prc_hicp.prc_hicp_ecoicop2
C7: Jahresdurchschnittsindex (2025=100) | D7: Umrechnungsfaktor zu EUR2023
B8: 2016 | C8: 76.07
B9: 2017 | C9: 77.38 | D9: =C15/C9 -> 1.2330059
B10: 2018 | C10: 78.86 | D10: =C15/C10 -> 1.2098656
B11: 2019 | C11: 79.95 | D11: =C15/C11 -> 1.1933709
B12: 2020 | C12: 80.24 | D12: =C15/C12 -> 1.1890578
B13: 2021 | C13: 82.81 | D13: =C15/C13 -> 1.1521555
B14: 2022 | C14: 89.99 | D14: =C15/C14 -> 1.0602289
B15: 2023 | C15: 95.41 | D15: =C15/C15 -> 1
B16: 2024 | C16: 97.79 | D16: =C15/C16 -> 0.97566213
B17: 2025 | C17: 100 | D17: =C15/C17 -> 0.9541
K46: =170*1.218718843 -> 207.1822

Sheet A2_Rohdaten
A1: Zentrale Rohdatenablage: Werte exakt wie in der Quelle (Originalpreisstand). Alle Auswertungsblätter greifen per Formel hierauf zu; die Umrechnung auf den Zielpreisstand erfolgt über die Faktoren im Blatt A1_Inflation.
A3: Energieträger | B3: Quelle | C3: Bezeichnung | D3: Maßeinheit | E3: 2025 | F3: 2026 | G3: 2027 | H3: 2028 | I3: 2029 | J3: 2030 | K3: 2031 | L3: 2032 | M3: 2033 | N3: 2034 | O3: 2035 | P3: 2036 | Q3: 2037 | R3: 2038 | S3: 2039 | T3: 2040 | U3: 2041 | V3: 2042 | W3: 2043 | X3: 2044 | Y3: 2045 | Z3: 2046 | AA3: 2047 | AB3: 2048 | AC3: 2049 | AD3: 2050 | AE3: Quellen
A4: Gas | B4: UBA-Projektionsbericht (2026) | C4: Erdgas Haushalte (20-200 GJ) - Endverbraucherpreis inkl. MwSt. | D4: EUR2024/MWh | E4: 129.43 | F4: 121.41 | G4: 121.65 | H4: 121.12 | I4: 120.82 | J4: 120.27 | K4: 121.67 | L4: 124.44 | M4: 127.61 | N4: 130.69 | O4: 133.71 | P4: 136.65 | Q4: 139.53 | R4: 142.34 | S4: 145.1 | T4: 147.79 | U4: 152.13 | V4: 156.53 | W4: 160.91 | X4: 165.24 | Y4: 169.52 | Z4: 172.28 | AA4: 174.98 | AB4: 177.64 | AC4: 180.24 | AD4: 182.8 | AE4: https://www.umweltbundesamt.de/publikationen/rahmendaten-endverbrauchspreise-fur-die
